BEGIN:VCALENDAR
VERSION:2.0
PRODID:-//Aktuális-MA - ECPv4.7.4//NONSGML v1.0//EN
CALSCALE:GREGORIAN
METHOD:PUBLISH
X-WR-CALNAME:Aktuális-MA
X-ORIGINAL-URL:https://www.aktualis-ma.hu
X-WR-CALDESC:Events for Aktuális-MA
BEGIN:VEVENT
DTSTART;TZID=Europe/Budapest:20220904T003000
DTEND;TZID=Europe/Budapest:20221103T170000
DTSTAMP:20260423T170445
CREATED:20220904T183825Z
LAST-MODIFIED:20221020T142542Z
UID:36695-1662251400-1667494800@www.aktualis-ma.hu
SUMMARY:Kártérítési képzés - Együtt kedvezőbb
DESCRIPTION:[vc_row leaf_row_scheme=”0″ css=”.vc_custom_1535543737295{border-bottom-width: 0px !important;padding-bottom: 0px !important;}”][vc_column][vc_tta_tabs active_section=”1″ css=”.vc_custom_1587895824091{background-color: #ffffff !important;}”][vc_tta_section i_icon_fontawesome=”fa fa-info” add_icon=”true” title=”Általános információ” tab_id=”altalanos_inf_Munkaszerzodes_munkaido_munkaberaa6c-537e”][vc_row_inner][vc_column_inner width=”1/2″][vc_single_image image=”36698″ img_size=”500*500″ alignment=”center” style=”vc_box_shadow_3d” onclick=”custom_link” img_link_target=”_blank” link=”https://www.aktualis-ma.hu/rendezveny/a-kontraktualis-karteritesi-felelosseg-a-gyakorlatban/”][/vc_column_inner][vc_column_inner width=”1/2″][vc_single_image image=”36697″ img_size=”500*500″ alignment=”center” style=”vc_box_shadow_3d” onclick=”custom_link” img_link_target=”_blank” link=”https://www.aktualis-ma.hu/rendezveny/a-deliktualis-karteritesi-felelosseg-terjedelme/”][/vc_column_inner][/vc_row_inner][vc_row_inner][vc_column_inner][vc_single_image image=”36701″ img_size=”1200*400″ alignment=”center” style=”vc_box_shadow_3d” onclick=”custom_link” img_link_target=”_blank” link=”https://www.aktualis-ma.hu/rendezveny/36695/#jegyvasarlas_Munkaszerzodes_munkaido_munkaberaa6c-537e”][vc_column_text] \nEgyüttes regisztráció:\nA kontraktuális kártérítési felelősség a gyakorlatban \n+ \nA deliktuális kártérítési felelősség terjedelme \nA két kártérítési képzésekre (6 kredit) most együtt is tud regisztrálni \nKedvezményes regisztráció: 27 000.-Ft / 2 képzés / 6 kredit \nA képzések eredeti ára: 36 000.-Ft  \n(Megtakarítás 25%\, azaz 9000.-Ft) \nEz a kedvezmény 2022. 10. 28-ig leadott regisztrációkra érvényes! \n[/vc_column_text][/vc_column_inner][/vc_row_inner][/vc_tta_section][vc_tta_section i_position=”right” i_icon_fontawesome=”fa fa-exclamation” add_icon=”true” title=”JEGYVÁSÁRLÁS” tab_id=”jegyvasarlas_Munkaszerzodes_munkaido_munkaberaa6c-537e”][/vc_tta_section][/vc_tta_tabs][/vc_column][/vc_row][vc_row][vc_column][vc_row_inner][vc_column_inner][/vc_column_inner][/vc_row_inner]\n		\n			\n				\n					\n					Mi történik a megrendelés elküldését követően?\n					\n				\n				 \nA megrendelés elküldését követően\, minden pénzügyi teljesítéshez szükséges információt megküldünk a regisztráció során megadott e-mailcímre. \nAmennyiben a visszaigazolásban feltűntetett díj kiegyenlítésre kerül\, hozzáférést küldünk Önnek\, mely tartalmazza az oktatási anyag(ok)hoz rendelt belépési útvonalat és adatokat\, illetve a pénzügyileg teljesített számlát. \n\n			\n		 [/vc_column][/vc_row] \n
URL:https://www.aktualis-ma.hu/rendezveny/36695/
ORGANIZER;CN="Mavor%20Legal%20Kft.":MAILTO:info@aktualis-ma.hu
END:VEVENT
END:VCALENDAR