BEGIN:VCALENDAR
VERSION:2.0
PRODID:-//Aktuális-MA - ECPv4.7.4//NONSGML v1.0//EN
CALSCALE:GREGORIAN
METHOD:PUBLISH
X-WR-CALNAME:Aktuális-MA
X-ORIGINAL-URL:https://www.aktualis-ma.hu
X-WR-CALDESC:Events for Aktuális-MA
BEGIN:VEVENT
DTSTART;TZID=Europe/Budapest:20220705T080000
DTEND;TZID=Europe/Budapest:20220716T003000
DTSTAMP:20260419T140815
CREATED:20220705T192038Z
LAST-MODIFIED:20220712T204431Z
UID:35650-1657008000-1657931400@www.aktualis-ma.hu
SUMMARY:3 nap - 30% kedvezmény - 3 kredit
DESCRIPTION:[vc_row leaf_row_scheme=”0″ css=”.vc_custom_1535543737295{border-bottom-width: 0px !important;padding-bottom: 0px !important;}”][vc_column][vc_row_inner][vc_column_inner][vc_single_image image=”35653″ img_size=”1200*300″ alignment=”center” style=”vc_box_shadow_3d”][vc_empty_space][/vc_column_inner][/vc_row_inner][vc_row_inner][vc_column_inner width=”1/3″][vc_single_image image=”35663″ img_size=”400*500″ style=”vc_box_shadow_3d” onclick=”custom_link” img_link_target=”_blank” link=”https://www.aktualis-ma.hu/rendezveny/koveteleskezeles-i-tippek-es-trukkok-a-szerzodeskotesrol-teljesitesrol/”][vc_empty_space height=”16px”][vc_single_image image=”35665″ img_size=”400*500″ alignment=”center” style=”vc_box_shadow_3d” onclick=”custom_link” img_link_target=”_blank” link=”https://www.aktualis-ma.hu/rendezveny/a-nemperes-eljarasok/”][vc_empty_space height=”16px”][vc_single_image image=”35662″ img_size=”400*500″ alignment=”center” style=”vc_box_shadow_3d” onclick=”custom_link” img_link_target=”_blank” link=”https://www.aktualis-ma.hu/rendezveny/compliance-3-kredit/”][/vc_column_inner][vc_column_inner width=”1/3″][vc_single_image image=”35664″ img_size=”400*500″ alignment=”center” style=”vc_box_shadow_3d” onclick=”custom_link” img_link_target=”_blank” link=”https://www.aktualis-ma.hu/rendezveny/koveteleskezeles-ii-hogy-lehet-egy-penzkoveteles-behajtasat-elosegiteni/”][vc_empty_space height=”16px”][vc_single_image image=”35667″ img_size=”400*500″ style=”vc_box_shadow_3d” onclick=”custom_link” link=”https://www.aktualis-ma.hu/rendezveny/az-uj-pp-gyakorlata-2022-ben/”][vc_empty_space height=”16px”][vc_single_image image=”35666″ img_size=”400*500″ alignment=”center” style=”vc_box_shadow_3d” onclick=”custom_link” img_link_target=”_blank” link=”https://www.aktualis-ma.hu/uj-ugyvedi-torveny/”][/vc_column_inner][vc_column_inner width=”1/3″][vc_cta h2=”Összefoglaló információk:” style=”custom” custom_background=”#193636″ custom_text=”#ffffff”] \nKépzések formája: e-learning \nKurzus időtartalma: 180 perc \n VIZSGA NINCS\, csak megtekinteni kell és járnak érte a kreditek \nMegtekintési határidő: 2022. december 15. \n[/vc_cta][vc_cta h2=”” style=”custom” add_icon=”top” i_type=”material” i_icon_material=”vc-material vc-material-attach_money” i_color=”mulled_wine” i_size=”xl” custom_background=”#f0efeb”]NINCSENEK REJTETT KÖLTSÉGEK!!!\nA képzés mentes az adó alól az Áfa tv. 85.§. (2) alapján. \n3 kredit = 12.400.-Ft/képzés \n[/vc_cta][vc_cta h2=”” style=”custom” add_icon=”top” i_type=”entypo” i_icon_entypo=”entypo-icon entypo-icon-back-in-time” i_color=”mulled_wine” i_size=”xl” custom_background=”#f0efeb”] \nTöbb órás képzési anyagaink 15-25 perces fejezetekre vannak bontva\, így nem szükséges egyszerre\, rászánnia több órát a megtekintésre. \n[/vc_cta][vc_cta h2=”” style=”custom” add_icon=”top” i_type=”material” i_icon_material=”vc-material vc-material-laptop” i_color=”mulled_wine” i_size=”xl” custom_background=”#f0efeb”] \nA megvásárolt kurzusok\, bárhonnan\, bármikor\, saját időbeosztásában végezhetők. \n[/vc_cta][/vc_column_inner][/vc_row_inner][vc_row_inner][vc_column_inner width=”1/4″][vc_single_image image=”35669″ img_size=”300*500″ alignment=”center” style=”vc_box_shadow_3d”][/vc_column_inner][vc_column_inner width=”3/4″][vc_cta h2=”” style=”custom” add_icon=”left” i_type=”material” i_icon_material=”vc-material vc-material-phone_android” i_color=”white” i_size=”xl” custom_background=”#193636″ custom_text=”#ffffff”]Amennyiben bármilyen kérdése felmerül\, kérem keresse ügyfélszolgálatunkat\, készséggel állunk rendelkezésére az alábbi elérhetőségeken: \nTelefonos ügyfélszolgálat: +36 70 586 7791\nE-mail cím: info@aktualis-ma.hu \n[/vc_cta][vc_cta h2=”” style=”custom” custom_background=”#f0efeb”] \nA megrendelés elküldését követően\, minden pénzügyi teljesítéshez szükséges információt megküldünk a regisztráció során megadott e-mailcímre 24 órán belül. Amennyiben a visszaigazolásban feltűntetett díj kiegyenlítésre kerül\, megküldjük Önnek az oktatási anyag(ok)hoz rendelt belépési útvonalat és adatokat\, illetve pénzügyileg teljesített számlát. \n[/vc_cta][/vc_column_inner][/vc_row_inner][/vc_column][/vc_row][vc_row][vc_column][/vc_column][/vc_row] \n
URL:https://www.aktualis-ma.hu/rendezveny/3nap_30kedvezmeny_3kredit/
ORGANIZER;CN="Mavor%20Legal%20Kft.":MAILTO:info@aktualis-ma.hu
END:VEVENT
END:VCALENDAR