BEGIN:VCALENDAR
VERSION:2.0
PRODID:-//Aktuális-MA - ECPv4.7.4//NONSGML v1.0//EN
CALSCALE:GREGORIAN
METHOD:PUBLISH
X-WR-CALNAME:Aktuális-MA
X-ORIGINAL-URL:https://www.aktualis-ma.hu
X-WR-CALDESC:Events for Aktuális-MA
BEGIN:VEVENT
DTSTART;TZID=Europe/Budapest:20201022T100000
DTEND;TZID=Europe/Budapest:20201022T143000
DTSTAMP:20260420T020124
CREATED:20200405T220359Z
LAST-MODIFIED:20200917T124336Z
UID:12493-1603360800-1603377000@www.aktualis-ma.hu
SUMMARY:A 2017.évi XC törvény (Be.) a bírósági eljárást érintő leglényegesebb újításai (8 kredit)
DESCRIPTION:[vc_row leaf_row_scheme=”0″ css=”.vc_custom_1535543737295{border-bottom-width: 0px !important;padding-bottom: 0px !important;}”][vc_column][vc_column_text]Tisztelt Résztvevőink/Érdeklődőink! \nTekintettel a jelenlegi és várható fokozódó járványügyi helyzetre\, valamint figyelembe véve a Koronavírus-fertőzés Elleni Védekezésért Felelős Operatív Törzs tájékoztatásait a 2020-as év további részére tervezett élőszavas képzési eseményeinket elhalasztjuk. \nKialakítottuk az előszavas\, kontakt képzési események kiváltását biztosító online oktatási rendszerünket\, hogy előírt továbbképzési kötelezettségeit a veszélyhelyzet alatt\, otthonról is gondtalanul teljesíthesse. \n\n					.button-button_button_40.btn-primary{background-color:#4d4d4d;}\n					.button-button_button_40.btn-primary:hover{box-shadow: 0 0 25px -3px #4d4d4d;}\n				    	\n        Jelen képzési eseményünk e-learning forméban is elérhető ITT         \n        [/vc_column_text][/vc_column][vc_column][vc_tta_tabs active_section=”1″][vc_tta_section i_icon_fontawesome=”fa fa-info” add_icon=”true” title=”Általános információ” tab_id=”1533823033159-c2b08946-5c7e105d-624ffe9a-31cbf177-e0375a58-a2a8f2d4-625854dd-0df3a840-5a4fcd7a-6328b0ae-c4dd3260-943e65c0-d932″][vc_column_text] \n\n\nMiről is lesz szó?\n\n\n\n\n2018. július 1. napjától hatályos a 2017.évi XC. törvény a büntetőeljárásról. A törvény megalkotása során ígéret hangzott el többek között az eljárási szerepek pontosabb elhatárolása\, új szemlélet térnyerése az eljárás különböző szakaszaiban és az eljárás gyorsítása tárgyában. \nTöbb mint egy évvel a hatályba lépést követően már látható\, hogy az új jogszabállyal szembeni várakozások alaposak voltak-e. Számos\, bírák számára szervezett képzés résztvevőiként és előadóiként magunk is szerepet vállaltunk a Fővárosi Törvényszék illetékességi területén (és lehet\, hogy azon túl is) a jogalkalmazás egységesítésében. Az ennek során\, valamint törvényszéki elsőfokú ügyeket tárgyaló bíróként\, illetve másodfokú tanácselnökként szerzett tapasztalatainkat szeretnénk most átadni ügyvéd és jogtanácsos kollégák számára. \n\n\n[/vc_column_text][vc_row_inner][vc_column_inner width=”1/2″][vc_column_text] \n\n\n\n\nTematika\n\n\n\n\nI. Bírósági tárgyalást megelőző eljárási szakasz kérdései \n\nTörvényes vád\, a vád hiányosságainak következményei\nKényszerintézkedések fajtái\, törvényi \nElőkészítő ülés a gyakorlatban\n\n\n\n\nAz előkészítő ülés mint eljárást gyorsító jogintézmény\nBeismerő nyilatkozat elfogadása\nElőkészítő ülés többvádlottas ügyekben\nA bizonyítás korlátai\n\n\n\nII. A bírósági tárgyalás  \n\nAz elsőfokú bírósági eljárás\n\n\n\n\nJelenlét a tárgyaláson (lemondás a jelenétről\, kézbesítési megbízott)\nBizonyítási teher – bizonyítás hivatalból- tényálláshoz kötöttség\nA tárgyalás lefolytatása\nKiemelt súlyú vagy sokvádlottas ügyek tárgyalási specifikumai\nVédő díjazása\nA fellebbezés iránya\, terjedelme\, korlátai\n\n\n\n\nA másodfokú eljárás\n\n\n\n\nA felülbírálat terjedelme a fellebbezés iránya szerint (egy és több vádlottas ügyekben)\nMegalapozatlanság és annak eljárásjogi következményei\nBizonyítás a másodfokú eljárásban\, eltérő tényállás megállapítása\, a felülmérlegelés tilalma\nVédői díjazás/felkészülési díj\n\n\n\nA képzési esemény nyilvántartásba vetéli száma: NY001012/2020 \n\n\n\n\n[/vc_column_text][/vc_column_inner][vc_column_inner width=”1/2″][vc_column_text] \nSzakmai előadó:\n[/vc_column_text][vc_single_image image=”12468″ alignment=”center”][vc_column_text] \n\n\n dr. Laczó Adrienn \nFővárosi Törvényszék Büntető Kollégiumának törvényszéki elsőfokú ügyeket tárgyaló bírája\, referádájába tartoznak különösen a gazdasági\, illetve élet elleni bűncselekmények \n\n\n\n\n\n[/vc_column_text][vc_toggle title=”Bemutatkozás”]Egyéb tanulmányok: \n\na Nemzeti Közszolgálati Egyetem Rendészettudományi Karának szakirányú továbbképzésén: A szervezett bűnözés elleni küzdelem elmélete és gyakorlata\n\n  \nSzakmai tevékenység: \n\nELTE Bibó István Szakkollégium\, „Gazdasági bűncselekmények joga” című kurzus vezetője\nNemzeti Közszolgálati Egyetem\, Rendészettudományi Kar rendszeres előadója\nfogalmazóképzés résztvevője\nBírósági fogalmazói Felvételi Versenyvizsga-bizottság tagja\nBírósági Ügyviteli Vizsgabizottsági elnök\n\nNemzeti kockázatelemzési munkacsoport (NAV-NGM-IM-BM-LÜ-OBH) tagja[/vc_toggle][vc_empty_space][vc_single_image image=”12469″ alignment=”center”][vc_column_text] \n\n\ndr. Pecze Tünde \nA Fővárosi Törvényszék tanácselnöke\, az elsőfokú döntések felülbírálatát végzi \n\n\n\n\n\n[/vc_column_text][vc_toggle title=”Bemutatkozás”]1992-ben végeztem az ELTE Állam és jogtudományi Karán\, ettől kezdve a mai napig bíróságon dolgozom. Fogalmazói éveimet kisebb részben a Pesti Központi Kerületi Bíróságon főként azonban a Legfelsőbb Bíróság Büntető Kollégiumában teljesítettem. \n1995-ben nyertem bírói kinevezést\, a Budapesti IV. és XV. Kerületei Bíróságon\, majd a Budai Központi Kerületi Bíróságon 16 évig tárgyaltam elsőfokú büntető ügyeket\, 3 évig a Budapesti IV. és XV. Kerületi Bíróság elnökhelyettese voltam. \n2011-től a Fővárosi Törvényszéken másodfokú tanácsban\, majd 2017-től tanácselnökként az elsőfokú döntések felülbírálatát végzem. \nGazdasági\, büntetőjogi szakjogász végzettséggel rendelkezem. \nAz egyre nagyobb szakmai tapasztalat birtokában a bírák\, titkárok\, fogalmazók számára szervezett képzéseken\, konferencián sok esetben vállaltam elődást. 2019. októberében egy négy napos\, a Fővárosi Ítélőtábla\, a Fővárosi Törvényszék és a kerületi bíróságok bírái részvételével megtartott képzés keretében az új büntetőeljárási törvény értelmezése kapcsán a gyakorlat által felvetett kérdések megoldását célzó konzultációkat vezettem.[/vc_toggle][/vc_column_inner][/vc_row_inner][vc_row_inner][vc_column_inner][vc_column_text] \n\nA MAVOR Legal Kft. a Magyar Ügyvédi Kamara által az ügyvédi tevékenységet végzők továbbképzésére akkreditált képzési hely. \nAkkreditációs szám: AK23/2019  \nA kreditpont a Továbbképzési Kötelezettség teljesítésének mérésére szolgál. Kizárólag azon a Képzési eseményen szerezhető kreditpont\, amelyet a MÜK Oktatási és Akkreditációs Bizottsága nyilvántartásba vett és hozzá kreditpontot rendelt. \n\n\n\n\n[/vc_column_text][/vc_column_inner][/vc_row_inner][vc_row_inner][vc_column_inner width=”1/2″]    \n    	\n                	Időpont                \n        \n    \n    [vc_column_text] \nElőadás: \n2020. október 22. 10:00-14:30 \nRegisztráció:\n9:30-tól \n[/vc_column_text][/vc_column_inner][vc_column_inner width=”1/2″]    \n    	\n                	Helyszín                \n        \n    \n    [vc_column_text] \nBudapest belvárosa \nfrekventált\, tömegközlekedéssel is jól megközelíthető helyen. Pontos helyszínmegjelölés rendezvény előtt 7 nappal\, melyről elektronikus levél formájában tájékoztatni fogjuk\, a regisztráció során megadott elérhetőségen. \n[/vc_column_text][/vc_column_inner][/vc_row_inner][/vc_tta_section][vc_tta_section title=”Tájékoztató az élőszavas képzésekről” tab_id=”1586106382750-4078518f-28b065c0-d932″][vc_column_text]A részvétel az élőszavas konferencián óránként 1 kreditpont ér\, ennek igazolására az érkezéskor és távozáskor aláírt jelenléti ív szolgál. Amennyiben ez eseményt sikeres számonkéréssel (vizsga) zárja\, abban az esetben a részvétel a konferencián óránként 2 kreditpont ér. A számonkérés formája feleletválasztós teszt kitöltése\, mely abban az esetben minősül sikeresnek\, amennyibben Ön a helyes válaszok legalább 60%-át megjelölte. Az élőszavas konferencián való részvételért Önt abban az esetben is megilleti óránként 1 kreditpont\, amennyiben a záróvizsgát 60% alatt teljesítette. \nA MAVOR Legal Kft. a Magyar Ügyvédi Kamara által az ügyvédi tevékenységet végzők továbbképzésére akkreditált képzési helyként vállalja\, hogy a rendezvényt követő 15 napon belül a képzési eseményen megszerzett kreditpontról igazolást állít ki a résztvevőnek\, és ugyanezen időn belül valamennyi\, az adott kamaránál nyilvántartott résztvevő megszerzett kreditpontját közli a kamarával elektronikus úton. \nAmennyiben Ön papír alapú tanúsítvány kiállítását igényli\, abban az esetben kérjük jelezze igényét az info@mavor.hu emailcímre.  \nA papír alapú tanúsítvány kiállításának és megküldésének díja 1000.-Ft+Áfa/küldemény\, melyről adminisztrációs díjként számla kerül kiállításra és megküldésre az igénylő részére.[/vc_column_text][/vc_tta_section][vc_tta_section i_position=”right” i_icon_fontawesome=”fa fa-exclamation” add_icon=”true” title=”JEGYVÁSÁRLÁS” tab_id=”1535032668369-12e5d6d1-0656105d-624ffe9a-31cbf177-e0375a58-a2a8f2d4-625854dd-0df3a840-5a4fcd7a-6328b0ae-c4dd3260-943e65c0-d932″][vc_row_inner][vc_column_inner width=”3/4″]    \n    	\n                	Válassza ki a megvásárolni kívánt jegyeket!                \n        \n    \n    [/vc_column_inner][vc_column_inner width=”1/4″]    	    	\n            \n            	                \n                	\n                \n                            \n            \n                            \n            \n        \n        	[/vc_column_inner][/vc_row_inner][/vc_tta_section][/vc_tta_tabs][/vc_column][/vc_row][vc_row][vc_column][vc_column_text] \nNINCSENEK REJTETT KÖLTSÉGEK!!! \nA megjelenített jegyár bruttóban van feltüntetve\, már tartalmazza az ÁFA (27%) összegét. \n[/vc_column_text][/vc_column][/vc_row] \n
URL:https://www.aktualis-ma.hu/rendezveny/a-2017-evi-xc-torveny-be-a-birosagi-eljarast-erinto-leglenyegesebb-ujitasai-8-kredit/
LOCATION:Budapest\, Magyarország
CATEGORIES:előszavas képzés
ORGANIZER;CN="Mavor%20Legal%20Kft.":MAILTO:info@aktualis-ma.hu
END:VEVENT
END:VCALENDAR