BEGIN:VCALENDAR
VERSION:2.0
PRODID:-//Aktuális-MA - ECPv4.7.4//NONSGML v1.0//EN
CALSCALE:GREGORIAN
METHOD:PUBLISH
X-WR-CALNAME:Aktuális-MA
X-ORIGINAL-URL:https://www.aktualis-ma.hu
X-WR-CALDESC:Events for Aktuális-MA
BEGIN:VEVENT
DTSTART;TZID=Europe/Budapest:20190228T093000
DTEND;TZID=Europe/Budapest:20190228T130000
DTSTAMP:20260424T005520
CREATED:20190130T140406Z
LAST-MODIFIED:20190205T140241Z
UID:7837-1551346200-1551358800@www.aktualis-ma.hu
SUMMARY:A közszférában dolgozók munkaviszonyának megszüntetése\, a fegyelmi felelősség szabályai - Budapest
DESCRIPTION:[vc_row leaf_row_scheme=”0″ css=”.vc_custom_1535543737295{border-bottom-width: 0px !important;padding-bottom: 0px !important;}”][vc_column][vc_column_text] \nKedvezményes jelentkezési határidő: 2019.02.22-ig.\nAz előadás bemutatja a közszféra területén dolgozók (közalkalmazottak\, közszolgálati tisztviselők\, kormánytisztviselők\, állami tisztviselők) munkaviszonyának megszüntetése kapcsán érvényesülő általános és speciális szabályokat az ágazati sajátosságokra is figyelemmel.\n[/vc_column_text][vc_tta_tabs active_section=”1″][vc_tta_section i_icon_fontawesome=”fa fa-info” add_icon=”true” title=”Általános információ” tab_id=”1533823033159-c2b08946-5c7e105d-624ffe9a-31cbf177-e0375a58-a2a8f2d4-6258bb5f-3d3d”][vc_column_text]Külön foglalkozunk a bizalmatlanság és a méltatlanság szabályozásával\, bírói gyakorlatával. Kitérünk a nem megfelelő munkavégzés esetén célszerű eljárásra\, az ezen alapul megszüntetési indok bizonyítására. Bemutatjuk az alkalmatlanság megállapításának szabályait\, a közszférában érvényesülő felmondási tilalmakat és korlátozásokat\, a próbaidővel és a határozott idő megállapításával kapcsolatban felmerülő gyakorlati kérdéseket. Ismertetjük a vétkes kötelezettségszegés felmerülésekor követendő fegyelmi eljárás lényeges szabályait\, a büntetéseket\, és a bírói gyakorlatot.[/vc_column_text][vc_row_inner][vc_column_inner width=”1/3″]    \n    	\n                	Időpont                \n        \n    \n    [vc_column_text] \nElőadás:\n2019. február 28. 9:30-13:00 \nRegisztráció:\n9:00-tól \n[/vc_column_text][/vc_column_inner][vc_column_inner width=”1/3″]    \n    	\n                	Helyszín                \n        \n    \n    [vc_column_text] \nExpo Congress Hotel ****  \nBudapest\, Expo tér 2\, 1101 \nA szálloda előtti parkolóban a parkolás térítésmentesen biztosított a résztvevők részére (a szabad kapacitás függvényében). \n[/vc_column_text][/vc_column_inner][vc_column_inner width=”1/3″][vc_single_image image=”7380″ img_size=”full” alignment=”center”][/vc_column_inner][/vc_row_inner][/vc_tta_section][vc_tta_section i_icon_fontawesome=”fa fa-file-text-o” add_icon=”true” title=”Tematika” tab_id=”1533819871856-e4e5f150-8c60105d-624ffe9a-31cbf177-e0375a58-a2a8f2d4-6258bb5f-3d3d”]    	\n        Letöltöm a részletes tematikát        \n        [vc_column_text] \n\nVétkes kötelezettségszegés esetén érvényesülő eljárás\,\nszóbeli\, írásbeli figyelmeztetés\,\nhátrányos jogkövetkezmények\,\nfegyelmi felelősség\,\na fegyelmi/hátrányos jogkövetkezmény miatti eljárás szabályai\, határidők\,\netikai vétség\na munkaviszonyt megszüntető jognyilatkozat alakiságai\, a közlés módja és ideje\,\na közös megegyezéses munkaviszony megszüntetés tartalma\, a megállapodás megtámadása\,\na próbaidő kikötésének szabályai (kötelező esetek\, tiltott esetek)\, számítása és a próbaidő alatti munkaviszony megszüntetée\,\na határozott idő megállapításának szabályai\, meghosszabbítása\, a jogviszony megszűnése\, megszüntetése\,\nfelmentés a munkáltató működésével összefüggő okból\, a munkavállaló kiválasztás\,\nfelmentés a munkavállaló nem megfelelő munkavégzése vagy tartós alkalmatlansága folytán\,\nméltatlanság\,\nbizalomvesztés\,\nfelmondási tilalmak\, korlátozások a közszférában\,\nrendkívüli felmentés\,\neljárási szabályok\n\n[/vc_column_text][/vc_tta_section][vc_tta_section i_icon_fontawesome=”fa fa-user-o” add_icon=”true” title=”Előadók” tab_id=”1533822441281-092a6de7-7d36105d-624ffe9a-31cbf177-e0375a58-a2a8f2d4-6258bb5f-3d3d”][vc_row_inner][vc_column_inner width=”1/3″][vc_single_image image=”5595″ img_size=”full” alignment=”center”][vc_column_text] \nDr. Kulisity Mária\nbíró\nFővárosi Törvényszéki Közigazgatási és Munkaügyi Regionális Kollégium \n[/vc_column_text][/vc_column_inner][vc_column_inner width=”1/3″][/vc_column_inner][vc_column_inner width=”1/3″][/vc_column_inner][/vc_row_inner][/vc_tta_section][vc_tta_section i_icon_fontawesome=”fa fa-credit-card” add_icon=”true” title=”Árak” tab_id=”1533819871877-2ce09627-0015105d-624ffe9a-31cbf177-e0375a58-a2a8f2d4-6258bb5f-3d3d”][vc_row_inner][vc_column_inner width=”1/3″]\n		\n			\n				\n					Early Bird - egyéni\n					22 900 Ft\n					+Áfa/fő\n				\n				02.22-ig\, 1 vagy 2 fő részére vásárolt jegy esetén!✔ Ellátás\nEXCLUSIVE kávészünet – 1 csésze kávé vagy tea\, 1 üveg ásványvíz  vagy üdítő\, saláták  gyümölcstál\, mini szendvics✔ Kiadvány\naz előadás anyag kiadvány formájában✔ Eszközök jegyzeteléshez\nmappa\, toll\, jegyzetfüzet✔ Tananyag\nAz előadást követően az előadás anyaga elektronikus formában elküldve.✔ Parkolás\nA szálloda előtti parkolóban a parkolás térítésmentesen biztosított a résztvevők részére (a szabad kapacitás függvényében).✔ WIFI\nWIFI használat a termekben és a közösségi terekben\n			\n		 [/vc_column_inner][vc_column_inner width=”1/3″]\n		\n			\n				\n					Early Bird - csoportos\n					19 900 Ft\n					+Áfa/fő\n				\n				02.22-ig\, minimum 3 fő részére vásárolt jegy esetén!✔ Ellátás\nEXCLUSIVE kávészünet – 1 csésze kávé vagy tea\, 1 üveg ásványvíz  vagy üdítő\, saláták  gyümölcstál\, mini szendvics✔ Kiadvány\naz előadás anyag kiadvány formájában✔ Eszközök jegyzeteléshez\nmappa\, toll\, jegyzetfüzet✔ Tananyag\nAz előadást követően az előadás anyaga elektronikus formában elküldve.✔ Parkolás\nA szálloda előtti parkolóban a parkolás térítésmentesen biztosított a résztvevők részére (a szabad kapacitás függvényében).✔ WIFI\nWIFI használat a termekben és a közösségi terekben\n			\n		 [/vc_column_inner][vc_column_inner width=”1/3″]\n		\n			\n				\n					Standard\n					24 900 Ft\n					+ÁFA/fő\n				\n				02.22. után\, 1 vagy több fő részére vásárolt jegy esetén!✔ Ellátás\nEXCLUSIVE kávészünet – 1 csésze kávé vagy tea\, 1 üveg ásványvíz  vagy üdítő\, saláták  gyümölcstál\, mini szendvics✔ Kiadvány\naz előadás anyag kiadvány formájában✔ Eszközök jegyzeteléshez\nmappa\, toll\, jegyzetfüzet✔ Tananyag\nAz előadást követően az előadás anyaga elektronikus formában elküldve.✔ Parkolás\nA szálloda előtti parkolóban a parkolás térítésmentesen biztosított a résztvevők részére (a szabad kapacitás függvényében).✔ WIFI\nWIFI használat a termekben és a közösségi terekben\n			\n		 [/vc_column_inner][/vc_row_inner][/vc_tta_section][vc_tta_section i_position=”right” i_icon_fontawesome=”fa fa-exclamation” add_icon=”true” title=”JEGYVÁSÁRLÁS” tab_id=”1535032668369-12e5d6d1-0656105d-624ffe9a-31cbf177-e0375a58-a2a8f2d4-6258bb5f-3d3d”][vc_row_inner][vc_column_inner width=”3/4″]    \n    	\n                	Válassza ki a megvásárolni kívánt jegyeket!                \n        \n    \n    [vc_column_text]Papír alapú jelentkezéshez töltse le formanyomtatványunkat![/vc_column_text][/vc_column_inner][vc_column_inner width=”1/4″]    	    	\n            \n            	                \n                	\n                \n                            \n            \n                            \n            \n        \n        	[/vc_column_inner][/vc_row_inner][/vc_tta_section][/vc_tta_tabs][/vc_column][/vc_row] \n
URL:https://www.aktualis-ma.hu/rendezveny/a-kozszferaban-dolgozok-munkaviszonyanak-megszuntetese-a-fegyelmi-felelosseg-szabalyai-budapest-190228/
LOCATION:Expo Congress Hotel\, 1101 Budapest\, Expo tér 2.\, 1101\, Magyarország
CATEGORIES:Konferencia
ORGANIZER;CN="Mavor%20Legal%20Kft.":MAILTO:info@aktualis-ma.hu
END:VEVENT
END:VCALENDAR