BEGIN:VCALENDAR
VERSION:2.0
PRODID:-//Aktuális-MA - ECPv4.7.4//NONSGML v1.0//EN
CALSCALE:GREGORIAN
METHOD:PUBLISH
X-WR-CALNAME:Aktuális-MA
X-ORIGINAL-URL:https://www.aktualis-ma.hu
X-WR-CALDESC:Events for Aktuális-MA
BEGIN:VEVENT
DTSTART;TZID=Europe/Budapest:20230101T080000
DTEND;TZID=Europe/Budapest:20231231T170000
DTSTAMP:20260419T141329
CREATED:20220310T112712Z
LAST-MODIFIED:20230531T095643Z
UID:33363-1672560000-1704042000@www.aktualis-ma.hu
SUMMARY:A munkaviszony megszüntetés legújabb fejleményei és bírói gyakorlata (6 kredit)
DESCRIPTION:[vc_row leaf_row_scheme=”0″ css=”.vc_custom_1535543737295{border-bottom-width: 0px !important;padding-bottom: 0px !important;}”][vc_column][vc_row_inner][vc_column_inner width=”2/3″][vc_column_text] \n    \n    	\n                	Aktuális bírói gyakorlat                  \n        \n    \n    \n\n\n\n[/vc_column_text][/vc_column_inner][vc_column_inner width=”1/3″]    \n    	\n                	6 kredit                \n        \n    \n    [/vc_column_inner][/vc_row_inner][vc_tta_tabs active_section=”1″ css=”.vc_custom_1587895824091{background-color: #ffffff !important;}”][vc_tta_section i_icon_fontawesome=”fa fa-info” add_icon=”true” title=”Általános információ” tab_id=”altalanos_inf_munka_ca7a-257d”][vc_row_inner][vc_column_inner width=”1/2″][vc_column_text]    \n    	\n                	Ajánló                \n        \n    \nAz előadás a munkaviszony megszüntetés legújabb fejleményeinek elméleti és gyakorlati bemutatását tartalmazza. Részletesen foglalkozik a téma aktuális kihívásaival\, így például a határozott idejű munkaviszony megszüntetésével a koronavírus járvány miatt elnehezült gazdasági okokból\, illetve lehetetlenülésből\, az érvénytelen\, és jóerkölcsbe ütköző szerződéses kikötésekkel és azok jogi sorsával\, de kitérünk a jogviszonyváltással összefüggő problémás kérdésekre is. Ugyanakkor a mindig aktuális kérdéseket is igyekszünk megválaszolni\, úgymint miként lehet megszüntetni a munkavállaló munkaviszonyát összeférhetetlenség\, vagy tartós alkalmatlanság miatt\, mire kell figyelni keresőképtelen betegség esetén\, és mi valósít meg bizalomvesztést\, továbbá milyen szempontok értékelhetők létszámcsökkentés esetén  a munkavállaló kiválasztásakor. Az előadás meghatározó részét képezi a legújabb kúriai és ítélőtáblai bíró gyakorlat bemutatása\, de a téma tárgyalása során a munkajoghoz szorosan kapcsolódó közalkalkalmazotti és egyéb szolgálati  jogviszonyok kapcsolódó szabályaira is kitérünk. Az előadás az anyagi és eljárásjogi jogszabályokat közérthetően\, gyakorlati példákkal illusztrálva mutatja be\, ezért ajánlott munkajoggal foglalkozó ügyvédeknek\, jogtanácsosoknak\, ugyanúgy mint személyzeti kérdésekkel foglalkozó szakembereknek.[/vc_column_text][vc_column_text]    \n    	\n                	Tematika                \n        \n    \n\nÁltalános magatartás követelmények: az adott helyzetben általában elvárható magatartás\, együttműködési és tájékoztatás kötelezettség\, a méltányos mérlegelés elve\, a munkáltató jogos gazdasági érdekeinek védelme\, a joggal való visszaélés tilalma\nEgyenlő bánásmód\nKözös megegyezéses munkaviszony megszüntetés\, egyoldalú és kölcsönös joglemondó nyilatkozatok és azok jogi megítélése\nA felmondás\nA munkáltató működésével összefüggő okok\, létszámcsökkentés\, átszervezés\, minőségi csere\, a munkavállaló kiválasztása\nAlkalmatlanság (egészségügyi\, képességi és személyi)\nA munkavállaló nem megfelelő magatartása\, illetve munkavégzése\nMunkáltatói szabályzatok és azok betartásának elmulasztása\nBizalomvesztés\, összeférhetetlenség\nKeresőképtelen betegség\, táppénz nélküli tartós betegség és felmondás\nFelmondási tilalmak és korlátozások\, állásfelajánlás módja és megvalósulása\nAzonnal hatályú felmondás\nPróbaidő alatti felmondás\nÉrvénytelenség miatti felszámolás\nA határozott idejű munkaviszony felmondása\nA munkaerő-kölcsönzésre irányuló munkaviszony megszüntetése\nEgyes munkavállalói csoportokra vonatkozó speciális szabályok (nyugdíjas\, vezető állású munkavállalók\, köztulajdonban álló munkáltatóknál foglalkoztatottak)\nA munkaviszony megszüntetése esetén fizetendő járandóságok\nÉrvénytelen\, illetve jóerkölcsbe ütköző szerződéses kikötések és azok jogkövetkezményei\nA versenytilalmi megállapodás és a tanulmányi szerződés sorsa munkaviszony megszüntetés esetén: elállás\, felmondás és elszámolás\nA munkavállaló munkaviszony megszüntetése\nEljárás a munkaviszony megszüntetése során\nJogviszonyváltással összefüggő kérdések\nJogkövetkezmények és jogérvényesítés\, a munkaügyi per\n\n[/vc_column_text][/vc_column_inner][vc_column_inner width=”1/2″]\n		\n			\n				\n					\n					Összefoglaló információk\n					\n				\n				Előadó:Dr. Kulisity Mária – Bíró – Fővárosi Törvényszéki Közigazgatási és Munkaügyi Regionális Kollégium \nJogterület:  Munkajog\nKépzés formája: e-learning\nKurzus időtartalma: (~) 360 perc\nFejezetek száma: 13 db \nMegtekinthető: A belépési adatok kiküldésétől számított 60 napig- de legkésőbb december 15-ig. \nNyilvántartásba vételi szám: NY002066/2022 \nEhhez a képzési anyaghoz NEM tartozik vizsga a megtekintésért 6 kredit jár! \n(Az oktatási felület korlátlan számú belépést biztosít a kurzusban résztvevő számára a hozzáférési határidőig.)\n			\n		 [vc_empty_space]\n		\n			\n				\n					\n					Jegyek\n					\n				\n				 \nStandard jegyár: 36 000 Ft / képzés / fő \n\nNINCSENEK REJTETT KÖLTSÉGEK!!!\nA képzés mentes az adó alól az Áfa tv. 85.§. (2) alapján.\n			\n		 [vc_empty_space height=”16px”][vc_btn title=”JEGYVÁSÁRLÁS” color=”inverse” size=”lg” align=”center” i_icon_fontawesome=”fa fa-id-card-o” add_icon=”true” link=”url:https%3A%2F%2Fwww.aktualis-ma.hu%2Frendezveny%2Fa-munkaviszony-megszuntetes-legujabb-fejlemenyei-es-biroi-gyakorlata-6-kredit%2F%23jegyvasarlas__munka_7a-257d||target:%20_blank|”][vc_empty_space height=”60px”]    \n    	\n                	A képzés szakmai előadója                \n        \n    \n    [vc_column_text] \nDr. Kulisity Mária \n– Bíró – \nFővárosi Törvényszéki Közigazgatási és Munkaügyi Regionális Kollégium[/vc_column_text][vc_single_image image=”40481″ img_size=”590*1004″ alignment=”center” style=”vc_box_shadow_border” onclick=”custom_link” img_link_target=”_blank” link=”https://www.aktualis-ma.hu/rendezveny/tagsagi-jegy-2023/”][vc_empty_space height=”60px”][vc_cta h2=”További kreditpontos képzésekről ITT tájékozódhat!” h2_font_container=”font_size:30|color:%23ffffff” h2_use_theme_fonts=”yes” h2_css_animation=”bounceInLeft” txt_align=”center” style=”custom” use_custom_fonts_h2=”true” h2_link=”url:https%3A%2F%2Fwww.aktualis-ma.hu%2Fuj-ugyvedi-torveny%2F||target:%20_blank|” custom_background=”#444444″ custom_text=”#ffffff”][/vc_cta][/vc_column_inner][/vc_row_inner][/vc_tta_section][vc_tta_section title=”Tájékoztató E-learning képzésről” tab_id=”Tajekoztato_munka_rca7a-257d”][vc_row_inner][vc_column_inner][vc_column_text] \n    \n    	\n                	Részletes tájékoztatás az e-learning képzés menetéről:                \n        \n    \n    \n\n\n\n[/vc_column_text][vc_column_text]Mi történik a megrendelés elküldését követően? \nA megrendelés elküldését követően\, minden pénzügyi teljesítéshez szükséges információt megküldünk a regisztráció során megadott e-mailcímre. Amennyiben a visszaigazolásban feltűntetett díj kiegyenlítésre kerül\, megküldjük Önnek az oktatási anyag(ok)hoz rendelt belépési útvonalat és adatokat\, illetve pénzügyileg teljesített számlát. \nRészletek a kurzusról és az oktatási felület működéséről \n\nKurzus időtartalma: 360 perc\nFejezetek száma: 13 db\n\nMinden fejezet végén a rendszer feltesz Önnek egy éberségellenőrző kérdést az elhangzott oktatási anyaghoz kapcsolódóan. \nA fejezetek közötti éberségellenőrző kérdésről: \n\nA kérdések száma a kurzuson belül: 1 db/fejezet\nA kérdések formája: feleletválasztós teszt\nKitöltés módja: jelölőnégyzet használatával\n\nA kurzus megtekintésért és az ellenőrzőpontokon történő helyes kérdés megválaszolásért\, a szabályzat szerint 6 kreditpont adható. \n*Az oktatási felület korlátlan számú belépést biztosít a kurzusban résztvevő számára a megtekintési határidőig. \nEhhez a képzési anyaghoz NEM tartozik vizsga! \nA megszerzett kreditpontok lejelentéséről a MÜK rendszerébe cégünk gondoskodik\, Önnek további teendője nincs. \n\nTechnikai segítség a bejelentkezés során felmerülő akadályok kezeléséhez >>> \n\nAmennyiben a fentieken túl bármilyen kérdése felmerül\, kérem keresse ügyfélszolgálatunkat\, készséggel állunk rendelkezésére az alábbi elérhetőségeken: \nTelefonos ügyfélszolgálat: +36 70 586 7791 \nÜgyfélszolgálati idő: hétfő-csütörtök: 9:00-16:30\, péntek: 9:00-14:30 \nE-mail cím: info@aktualis-ma.hu \nMAVOR Legal Kft.\nKövessen minket facebookon is! \n[/vc_column_text][/vc_column_inner][/vc_row_inner][/vc_tta_section][vc_tta_section i_icon_fontawesome=”fa fa-check” add_icon=”true” title=”Előnyök” tab_id=”elonyok__munka_7a-257d”][vc_row_inner][vc_column_inner][vc_column_text]    \n    	\n                	MAVOR Legal Kft. – A tanulás jövője                \n        \n    \nAz online tanulás egyre elterjedtebb lesz\, ezért érdemes hozzá alkalmazkodni és kihasználni a benne rejlő lehetőségeket. \nA MAVOR Legal Kft. által alkalmazott e-learning képzési módszer szerint\, az oktató és a képzésben résztvevő időben és térben is teljesen elkülönül egymástól. \n    \n    	\n                	A képzési módszer előnyei:                \n        \n    \n    \nHatékonyság\, eredményesség kötöttségek és korlátok nélkül. \n\n\n\na tanulás bárhol\, bármikor saját haladási tempóban végezhető\nglobális hozzáférést biztosít a tudáshoz korlátok nélkül (időben és térben)\negyéni tanulási módszerhez\, és képzési szükségletekhez igazított\naz oktatást annyiszor ismételheti meg\, ahányszor az egyéni igényeihez szükséges\na családi és munkahelyi kötelezettségek és a tanulmányi feladatok jól összeegyeztethetőkké válnak\ncsökkennek az oktatáshoz\, képzéshez kapcsolódó járulékos költségek (pl.: utazás\, szállás stb.)\na tanulási folyamat üteme nyomon követhető\, naplózható és a megszerzett tudás mérhető\naz online tananyag naprakész mely a folyamatosan változó jogszabályok\, törvény módosítások által befolyásolt szakterület esetében igen fontos szempont – könnyen karbantartható (aktualizálható)\, illetve felújítható\n\n\n\nTöbb órás képzési anyagaink 15-25 perces fejezetekre vannak bontva\, így nem szükséges egyszerre\, rászánnia több órát a megtekintésre. \nOktatási rendszerünk minden megtekintett fejezetet naplóz\, így Ön onnan folytathatja\, ahol abbahagyta. \nNe maradjon le semmiről\, a fejezet közben az oktatási anyag bármikor megállítható a megtekintett fejezet pedig újra meghallgatható\, illetve biztosított az előre-és visszatekerés lehetősége.[/vc_column_text][/vc_column_inner][/vc_row_inner][/vc_tta_section][vc_tta_section i_position=”right” i_icon_fontawesome=”fa fa-exclamation” add_icon=”true” title=”JEGYVÁSÁRLÁS” tab_id=”jegyvasarlas__munka_7a-257d”][/vc_tta_section][/vc_tta_tabs][vc_row_inner][vc_column_inner][vc_single_image image=”43652″ img_size=”1200X301″ alignment=”center” style=”vc_box_shadow_3d” onclick=”custom_link” link=”https://www.aktualis-ma.hu/rendezveny/csomag/#Munkajog_2023_14_kredit”][/vc_column_inner][/vc_row_inner][/vc_column][/vc_row][vc_row][vc_column]\n		\n			\n				\n					\n					Mi történik a megrendelés elküldését követően?\n					\n				\n				 \nA megrendelés elküldését követően\, minden pénzügyi teljesítéshez szükséges információt megküldünk a regisztráció során megadott e-mailcímre. \nAmennyiben a visszaigazolásban feltűntetett díj kiegyenlítésre kerül\, hozzáférést küldünk Önnek\, mely tartalmazza az oktatási anyag(ok)hoz rendelt belépési útvonalat és adatokat\, illetve a pénzügyileg teljesített számlát. \n\n			\n		 [/vc_column][/vc_row][vc_row][vc_column][/vc_column][/vc_row] \n
URL:https://www.aktualis-ma.hu/rendezveny/a-munkaviszony-megszuntetes-legujabb-fejlemenyei-es-biroi-gyakorlata-6-kredit/
ORGANIZER;CN="Mavor%20Legal%20Kft.":MAILTO:info@aktualis-ma.hu
END:VEVENT
END:VCALENDAR