BEGIN:VCALENDAR
VERSION:2.0
PRODID:-//Aktuális-MA - ECPv4.7.4//NONSGML v1.0//EN
CALSCALE:GREGORIAN
METHOD:PUBLISH
X-WR-CALNAME:Aktuális-MA
X-ORIGINAL-URL:https://www.aktualis-ma.hu
X-WR-CALDESC:Events for Aktuális-MA
BEGIN:VEVENT
DTSTART;TZID=Europe/Budapest:20200116T100000
DTEND;TZID=Europe/Budapest:20200116T160000
DTSTAMP:20260423T123432
CREATED:20190910T083812Z
LAST-MODIFIED:20200107T145412Z
UID:10275-1579168800-1579190400@www.aktualis-ma.hu
SUMMARY:Az általános közigazgatási rendtartás gyakorlata - Fókuszban a bizonyítás (8 kredit) - Budapest
DESCRIPTION:[vc_row leaf_row_scheme=”0″ css=”.vc_custom_1535543737295{border-bottom-width: 0px !important;padding-bottom: 0px !important;}”][vc_column][vc_column_text]A MAVOR Legal Kft. a Magyar Ügyvédi Kamara által az ügyvédi tevékenységet végzők továbbképzésére akkreditált képzési hely. Akkreditációs szám: AK23/2019 \nEzen a képzésen 8 kreditpont megszerezhető. \nA kreditpont a Továbbképzési Kötelezettség teljesítésének mérésére szolgál. Kizárólag azon a Képzési eseményen szerezhető kreditpont\, amelyet a MÜK Oktatási és Akkreditációs Bizottsága nyilvántartásba vett és hozzá kreditpontot rendelt. \n[/vc_column_text]    	\n        Nyilvántartásba vételi határozat        \n        [vc_empty_space][vc_column_text]A részvétel a tanfolyamon óránként 1 kreditpontot ér\, azaz ezen a tanfolyamon történő részvétel 4 kreditpontot ér\, amennyiben Ön részvételét sikeres számonkéréssel zárja krediteit megduplázhatja\, azaz 8 kreditpontot szerezhet. A kreditek megszerzésének feltétele a rendezvényen történő részvétel\, ennek igazolására az érkezéskor és távozáskor aláírt jelenléti ív szolgál.  A kreditekről a rendezvényt követő 15 napon belül minden résztvevő számára névre szóló igazolást állítunk ki. \n[/vc_column_text][vc_tta_tabs active_section=”1″][vc_tta_section i_icon_fontawesome=”fa fa-info” add_icon=”true” title=”Általános információ” tab_id=”1533823033159-c2b08946-5c7e105d-624ffe9a-31cbf177-e0375a58-a2a8f2d4-625854dd-0df3a840-5a4fcd7a-6328b0ae-c4dd”][vc_column_text]Lassan két éve hatályos az Általános közigazgatási rendtartásról szóló 2016. évi CL. törvény (Ákr.). Ez idő alatt számos gyakorlati kérdés merült fel\, némelyikben már a Kúria is állást foglalt. 2020. január 1-jétől több helyen is módosul az Ákr.\nAz egy napos rendezvény célja az Ákr. legfontosabb szabályainak elemzése\, a jogalkalmazási kérdések felvázolása és megoldási javaslat a helyes joggyakorlat kialakításához. Bemutatjuk a módosuló szabályokat. Kiemelten foglalkozunk a bizonyítási eljárás főbb elemeivel\, buktatóival.\nAz előadás kitér az időközben esetlegesen életbelépő  Ákr. módosításaira is.\nHiánypótló újdonságként a szeminárium segítséget nyújt a hatósági döntés megszerkesztéséhez is\, felvázoljuk az elengedhetetlen tartalmi és formai kellékeket.\nA jogorvoslatok körében átvesszük a Közigazgatási perrendtartásról szóló 2017. évi I. törvény (Kp.) alapvető rendelkezéseit is.\nAz előadást olyan kúriai bíró tartja\, aki közigazgatási hatósági jogalkalmazói és közigazgatási bírói gyakorlattal is rendelkezik. Konzultáció keretében választ ad az előzetesen feltett kérdésekre is. \n[/vc_column_text][vc_row_inner][vc_column_inner width=”1/3″]    \n    	\n                	Időpont                \n        \n    \n    [vc_column_text] \nElőadás: \nVÁLTOZÁS \n2020. január 16. 10:00-15:00  10:00 – 16:00 \nRegisztráció:\n9:30-tól \n[/vc_column_text][/vc_column_inner][vc_column_inner width=”1/3″]    \n    	\n                	Helyszín                \n        \n    \n    [vc_column_text] \nHELYSZÍNVÁLTOZÁS \nEDUTUS Ház – Falk1 Rendezvényközpont \nKinnarps House  \n1133 Budapest\, Váci út 92. \n[/vc_column_text][/vc_column_inner][vc_column_inner width=”1/3″][vc_single_image image=”9651″ img_size=”full” alignment=”center”][/vc_column_inner][/vc_row_inner][/vc_tta_section][vc_tta_section i_icon_fontawesome=”fa fa-file-text-o” add_icon=”true” title=”Tematika” tab_id=”1533819871856-e4e5f150-8c60105d-624ffe9a-31cbf177-e0375a58-a2a8f2d4-625854dd-0df3a840-5a4fcd7a-6328b0ae-c4dd”][vc_empty_space]    	\n        Letöltöm a részletes tematikát        \n        [vc_empty_space][vc_column_text]Az előadás időtartalma: 10:00 – 15:00-ig. Ebédszünet:12:00-13:00-ig (3 fogásos menüebéd a helyszín éttermében) \n• Alapelvek\n• Az ügyfél és a jogutódlás\n• Hatáskör\, kiadmányozás\n• Az ügyintézési határidő\n• A bizonyítás\n• A kézbesítés\n• Jogorvoslatok\n• Semmisség\n• Határozatszerkesztés – gyakorlat \nOpcionális lehetőség: 15:00 – 16:00-ig \n\nSzámonkérés (teszt kitöltése) – Dupla. azaz 8 kreditpontért.\nHatározatszerkesztés – gyakorlati ismeretek\n\n[/vc_column_text][/vc_tta_section][vc_tta_section i_icon_fontawesome=”fa fa-user-o” add_icon=”true” title=”Előadók” tab_id=”1533822441281-092a6de7-7d36105d-624ffe9a-31cbf177-e0375a58-a2a8f2d4-625854dd-0df3a840-5a4fcd7a-6328b0ae-c4dd”][vc_row_inner][vc_column_inner width=”1/3″][vc_single_image image=”6898″ img_size=”full” alignment=”center”][vc_column_text] \nDr. Vitál-Eigner Beáta  \nbíró – Kúria \n[/vc_column_text][/vc_column_inner][vc_column_inner width=”1/3″][/vc_column_inner][vc_column_inner width=”1/3″][/vc_column_inner][/vc_row_inner][/vc_tta_section][vc_tta_section i_icon_fontawesome=”fa fa-credit-card” add_icon=”true” title=”Árak” tab_id=”1533819871877-2ce09627-0015105d-624ffe9a-31cbf177-e0375a58-a2a8f2d4-625854dd-0df3a840-5a4fcd7a-6328b0ae-c4dd”][vc_row_inner][vc_column_inner width=”1/3″]\n		\n			\n				\n					Early Bird\n					35 900 Ft\n					+Áfa/fő\n				\n				12.31. után\, de 01.10-ig vásárolt jegy esetén!✔ Ellátás \n3 fogásos menüebéd \nLeves + főétel + desszert + üdítő/ásványvíz/saláta✔ Kiadvány\naz előadás anyag kiadvány formájában✔ Eszközök jegyzeteléshez\nmappa\, toll\, jegyzetfüzet✔ Tananyag\nAz előadást követően az előadás anyaga elektronikus formában elküldve.✔ WIFI\nWIFI használat a termekben és a közösségi terekben\n			\n		 [/vc_column_inner][vc_column_inner width=”1/3″]\n		\n			\n				\n					SUPER Early Bird\n					29 900 Ft\n					+Áfa/fő\n				\n				12.31-ig vásárolt jegy esetén!✔ Ellátás \n3 fogásos menüebéd \nLeves + főétel + desszert + üdítő/ásványvíz/saláta✔ Kiadvány\naz előadás anyag kiadvány formájában✔ Eszközök jegyzeteléshez\nmappa\, toll\, jegyzetfüzet✔ Tananyag\nAz előadást követően az előadás anyaga elektronikus formában elküldve.✔ WIFI\nWIFI használat a termekben és a közösségi terekben\n			\n		 [/vc_column_inner][vc_column_inner width=”1/3″]\n		\n			\n				\n					Standard\n					39 900 Ft\n					+ÁFA/fő\n				\n				01.10. után vásárolt jegy esetén!✔ Ellátás \n3 fogásos menüebéd \nLeves + főétel + desszert + üdítő/ásványvíz/saláta✔ Kiadvány\naz előadás anyag kiadvány formájában✔ Eszközök jegyzeteléshez\nmappa\, toll\, jegyzetfüzet✔ Tananyag\nAz előadást követően az előadás anyaga elektronikus formában elküldve.✔ WIFI\nWIFI használat a termekben és a közösségi terekben\n			\n		 [/vc_column_inner][/vc_row_inner][/vc_tta_section][vc_tta_section i_position=”right” i_icon_fontawesome=”fa fa-exclamation” add_icon=”true” title=”JEGYVÁSÁRLÁS” tab_id=”1535032668369-12e5d6d1-0656105d-624ffe9a-31cbf177-e0375a58-a2a8f2d4-625854dd-0df3a840-5a4fcd7a-6328b0ae-c4dd”][vc_row_inner][vc_column_inner width=”3/4″]    \n    	\n                	Válassza ki a megvásárolni kívánt jegyeket!                \n        \n    \n    [vc_column_text]Papír alapú jelentkezéshez töltse le formanyomtatványunkat![/vc_column_text][/vc_column_inner][vc_column_inner width=”1/4″]    	    	\n            \n            	                \n                	\n                \n                            \n            \n                            \n            \n        \n        	[/vc_column_inner][/vc_row_inner][/vc_tta_section][/vc_tta_tabs][/vc_column][vc_column][/vc_column][/vc_row] \n
URL:https://www.aktualis-ma.hu/rendezveny/akr_gyakorlat/
LOCATION:Kinnarps House\, Váci út 92.\, Budapest\, 1133\, Magyarország
CATEGORIES:Konferencia
ORGANIZER;CN="Mavor%20Legal%20Kft.":MAILTO:info@aktualis-ma.hu
END:VEVENT
END:VCALENDAR