BEGIN:VCALENDAR
VERSION:2.0
PRODID:-//Aktuális-MA - ECPv4.7.4//NONSGML v1.0//EN
CALSCALE:GREGORIAN
METHOD:PUBLISH
X-WR-CALNAME:Aktuális-MA
X-ORIGINAL-URL:https://www.aktualis-ma.hu
X-WR-CALDESC:Events for Aktuális-MA
BEGIN:VEVENT
DTSTART;TZID=Europe/Budapest:20210204T080000
DTEND;TZID=Europe/Budapest:20210222T003000
DTSTAMP:20260420T092918
CREATED:20210204T140735Z
LAST-MODIFIED:20210222T094211Z
UID:22004-1612425600-1613953800@www.aktualis-ma.hu
SUMMARY:Compliance + Pénzmosás
DESCRIPTION:[vc_row][vc_column][vc_column_text] \n    \n    	\n                	Ez a kedvezmény lejárt!                \n        \n    \n    \n[/vc_column_text][vc_row_inner][vc_column_inner][vc_column_text] \n    \n    	\n                	Együtt kedvezőbb áron  \n[3+1 kredit]  \n18.000.-Ft helyett 15.900.-Ft-ért                \n        \n    \n     \n[/vc_column_text][vc_column_text] \n    \n    	\n                	A képzéseket önállóan megvásárolhatja                \n        \n    \n    \n\n[/vc_column_text][/vc_column_inner][/vc_row_inner][vc_row_inner][vc_column_inner width=”1/3″][vc_column_text] \n    \n    	\n                	COMPLIANCE\n3 kredit                 \n        \n    \n    \n[/vc_column_text][/vc_column_inner][vc_column_inner width=”1/3″][/vc_column_inner][vc_column_inner width=”1/3″][vc_column_text] \n    \n    	\n                	PÉNZMOSÁS \n1 kredit                \n        \n    \n    \n[/vc_column_text][/vc_column_inner][/vc_row_inner][vc_row_inner][vc_column_inner width=”1/3″][vc_btn title=”Részletek” style=”3d” color=”peacoc” size=”lg” align=”center” button_block=”true” link=”url:https%3A%2F%2Fwww.aktualis-ma.hu%2Frendezveny%2Fcompliance-3-kredit%2F|title:COMPLIANCE%20%E2%80%93%203%20kredit|target:%20_blank|”][/vc_column_inner][vc_column_inner width=”1/3″][/vc_column_inner][vc_column_inner width=”1/3″][vc_btn title=”Részletek” style=”3d” color=”peacoc” size=”lg” align=”center” button_block=”true” link=”url:https%3A%2F%2Fwww.aktualis-ma.hu%2Frendezveny%2Fa-penzmosas-uj-szabalyozasa%2F|title:COMPLIANCE%20%E2%80%93%203%20kredit|target:%20_blank|”][/vc_column_inner][/vc_row_inner][/vc_column][/vc_row][vc_row leaf_row_scheme=”0″ css=”.vc_custom_1535543737295{border-bottom-width: 0px !important;padding-bottom: 0px !important;}”][vc_column][vc_tta_tabs active_section=”1″ css=”.vc_custom_1587895824091{background-color: #ffffff !important;}”][vc_tta_section i_icon_fontawesome=”fa fa-info” add_icon=”true” title=”Általános információ” tab_id=”1612448262381-365bdf54-e42a”][vc_row_inner][vc_column_inner width=”1/2″]    \n    	\n                	A tartalomból:                \n        \n    \n    [vc_column_text]Képzésünkön napjaink egyik legdinamikusabban fejlődő új területét\, a compliance (megfelelés) témakörét járjuk körül részletesen. \nTovábbá a 2021. január 01. napjától újraszabályozott pénzmosás bűncselekménye és a hozzá kapcsolódó bejelentési kötelezettséggel kapcsolatos új szempontok kerülnek áttekintésre. \nKépzésünket ajánljuk gazdasági jogra\, büntetőjogra specializálódott ügyvédek\, továbbá a compliance és a pénzmosás megelőzése területén működő más szakemberek számára. A képzést ’A compliance alapkérdései – az etikus vállalati működés elmélete és gyakorlata’ című kötet szerzője és szerkesztője\, Dr. Ambrus István egyetemi docens (ELTE-ÁJK) tartja.[/vc_column_text][/vc_column_inner][vc_column_inner width=”1/2″]    \n    	\n                	Tematika                \n        \n    \n    [vc_column_text]Compliance – 3 óra \n\nA compliance fogalma\, kialakulása\, helye és szerepe a szervezeti keretrendszerben\nA compliance alkalmazási területei a köz- és a magánszférában\nEurópai Uniós és hazai jogszabályok a compliance szolgálatában\nBűnügyi compliance\nWhistleblowing (közérdekű bejelentés)\nInternal investigation (vállalati belső visszaélés-vizsgálat)\n\nA pénzmosás új szabályozása – 1 óra \n\nA pénzmosás szabályozástörténete\, megjelenése a büntetőjogban\nA pénzmosás és a terrorizmus finanszírozása elleni Európai Uniós és hazai jogszabályok evolúciója\nA pénzmosás új\, 2021. január 01-től hatályos szabályozása\n\n[/vc_column_text][/vc_column_inner][/vc_row_inner][vc_row_inner][vc_column_inner]    \n    	\n                	Előadó:                 \n        \n    \n    [/vc_column_inner][/vc_row_inner][vc_row_inner][vc_column_inner width=”1/4″][vc_single_image image=”21923″ alignment=”center”][/vc_column_inner][vc_column_inner width=”3/4″][vc_column_text] \n\ndr. Ambrus István \negyetemi docens\,  \nEötvös Loránd Tudományegyetem Állam- és Jogtudományi Kar \nBüntetőjogi Tanszék \n[/vc_column_text][/vc_column_inner][/vc_row_inner][vc_column_text] \n\nRészletes tájékoztató e-learning képzés menetéről > > >\n\n\n[/vc_column_text][vc_row_inner][vc_column_inner width=”2/3″]\n		\n			\n				\n					\n					Összegző információk\n					\n				\n				Jogterület: Gazdasági Jog és CégjogKépzés formája: e-learningKurzus időtartalma: 240 perc (180 perc + 60 perc)Fejezetek száma:  12 db (9 db + 3 db)Elérhető/megtekinthető: A megvásárlástól számított 60 nap.A képzések nyilvántartásba vételi száma: NY001519/2021 \, NY001518/2021\n					.button-button_button_8.btn-primary{background-color:#C1272D ;}\n					.button-button_button_8.btn-primary:hover{box-shadow: 0 0 25px -3px #C1272D ;}\n				    	\n        JEGYVÁSÁRLÁS        \n        \n			\n		 [/vc_column_inner][vc_column_inner width=”1/3″][vc_column_text] \nEzekhez a képzési anyagokhoz NEM tartozik vizsga a megtekintésért 4 kredit jár! \n[/vc_column_text][/vc_column_inner][/vc_row_inner][vc_column_text] \nA képzésekre Önálló formában is lehet regisztrálni\, nem csak együtt:\n[/vc_column_text][vc_row_inner][vc_column_inner width=”1/4″][/vc_column_inner][vc_column_inner width=”3/4″][vc_column_text] \nA PÉNZMOSÁS ÚJ SZABÁLYOZÁSA – önállóan – 1 kredit- 4 500.-Ft > > >\n[/vc_column_text][vc_column_text] \nCOMPLIANCE – önállóan – 3 kredit – 13 500.-Ft > > >\n[/vc_column_text][/vc_column_inner][/vc_row_inner][/vc_tta_section][vc_tta_section title=”Tájékoztató az E-learning képzésről” tab_id=”1612448263100-337770c0-3e6e”][vc_row_inner][vc_column_inner]    \n    	\n                	Részletes tájékoztatás az e-learning képzés menetéről:                 \n        \n    \n    [vc_column_text]Mi történik a megrendelés elküldését követően? \nA megrendelés elküldését követően\, minden pénzügyi teljesítéshez szükséges információt megküldünk a regisztráció során megadott e-mailcímre. Amennyiben a visszaigazolásban feltűntetett díj kiegyenlítésre kerül\, megküldjük Önnek az oktatási anyag(ok)hoz rendelt belépési útvonalat és adatokat\, illetve pénzügyileg teljesített számlát. \nRészletek a kurzusról és az oktatási felület működéséről \n\nKurzus időtartalma: 240 perc\nFejezetek száma: 12 db\n\nMinden fejezet végén a rendszer feltesz Önnek egy éberségellenőrző kérdést az elhangzott oktatási anyaghoz kapcsolódóan. \nA fejezetek közötti éberségellenőrző kérdésről: \n\nA kérdések száma a kurzuson belül: 1 db/fejezet\nA kérdések formája: feleletválasztós teszt\nKitöltés módja: jelölőnégyzet használatával\n\nA kurzus megtekintésért és az ellenőrzőpontokon történő helyes kérdés megválaszolásért\, a szabályzat szerint 4 kreditpont adható. \n*Az oktatási felület korlátlan számú belépést biztosít a kurzusban résztvevő számára a megtekintési határidőig. \nEhhez a képzési anyaghoz NEM tartozik vizsga! \nA megszerzett kreditpontok lejelentéséről a MÜK rendszerébe cégünk gondoskodik\, Önnek további teendője nincs. \n\nTechnikai segítség a bejelentkezés során felmerülő akadályok kezeléséhez >>> \n\nAmennyiben a fentieken túl bármilyen kérdése felmerül\, kérem keresse ügyfélszolgálatunkat\, készséggel állunk rendelkezésére az alábbi elérhetőségeken: \nTelefonos ügyfélszolgálat: +36 70 586 7791 \nÜgyfélszolgálati idő: hétfő-csütörtök: 8:30-16:30\, péntek: 8:30-14:30 \nE-mail cím: info@aktualis-ma.hu \nMAVOR Legal Kft.\nKövessen minket facebookon is! \n[/vc_column_text][/vc_column_inner][/vc_row_inner][/vc_tta_section][vc_tta_section i_icon_fontawesome=”fa fa-check” add_icon=”true” title=”Előnyök” tab_id=”1612448263279-d2223fcf-81a8″][vc_column_text]    \n    	\n                	MAVOR Legal Kft. – A tanulás jövője                \n        \n    \nAz online tanulás egyre elterjedtebb lesz\, ezért érdemes hozzá alkalmazkodni és kihasználni a benne rejlő lehetőségeket. \nAz e-learning rendszereknek a képzési folyamatban az oktató és a képzésben résztvevő tevékenységének időbelisége szempontjából két fő típusa különíthető el: \nEgyik fő típus a MAVOR Legal Kft. által alkalmazott aszinkron képzési módszer\, mely szerint az oktató és a képzésben résztvevő időben és térben is teljesen elkülönül egymástól. \nEzzel szemben a szinkron (online-élő) képzés időben kötött és a résztvevőnek alkalmazkodnia kell az oktató/képző intézmény által rögzített időpontokhoz. \n    \n    	\n                	Az aszinkron e-learning képzési módszer előnyei:                \n        \n    \n    \n\nhatékonyság\, eredményesség kötöttségek és korlátok nélkül.\na tanulás bárhol\, bármikor saját haladási tempóban végezhető\nglobális hozzáférést biztosít a tudáshoz korlátok nélkül (időben és térben)\negyéni tanulási módszerhez\, és képzési szükségletekhez igazított\naz oktatást annyiszor ismételheti meg\, ahányszor az egyéni igényeihez szükséges\na családi és munkahelyi kötelezettségek és a tanulmányi feladatok jól összeegyeztethetőkké válnak\ncsökkennek az oktatáshoz\, képzéshez kapcsolódó járulékos költségek (pl.: utazás\, szállás stb.)\na tanulási folyamat üteme nyomon követhető\, naplózható és a megszerzett tudás mérhető\naz online tananyag naprakész mely a folyamatosan változó jogszabályok\, törvény módosítások által befolyásolt szakterület esetében igen fontos szempont – könnyen karbantartható (aktualizálható)\, illetve felújítható\n\nTöbb órás képzési anyagaink 15-25 perces fejezetekre vannak bontva\, így nem szükséges egyszerre\, rászánnia több órát a megtekintésre. Oktatási rendszerünk minden megtekintett fejezetet naplóz\, így Ön onnan folytathatja\, ahol abbahagyta. \nNe maradjon le semmiről\, a fejezet közben az oktatási anyag bármikor megállítható a megtekintett fejezet pedig újra meghallgatható\, illetve biztosított az előre-és visszatekerés lehetősége.[/vc_column_text][/vc_tta_section][vc_tta_section i_position=”right” i_icon_fontawesome=”fa fa-exclamation” add_icon=”true” title=”JEGYVÁSÁRLÁS” tab_id=”1612448263356-d0cb4662-7364″][vc_row_inner][vc_column_inner width=”3/4″]    \n    	\n                	Válassza ki a megvásárolni kívánt jegyeket!                \n        \n    \n    [/vc_column_inner][/vc_row_inner][/vc_tta_section][/vc_tta_tabs][vc_row_inner][vc_column_inner width=”1/2″][/vc_column_inner][vc_column_inner width=”1/2″][/vc_column_inner][/vc_row_inner][/vc_column][/vc_row][vc_row][vc_column][vc_column_text] \nMi történik a megrendelés elküldését követően?\nA megrendelés elküldését követően\, minden pénzügyi teljesítéshez szükséges információt megküldünk a regisztráció során megadott e-mailcímre. A visszaigazolásban feltűntetett díj kiegyenlítését követően 48 órán belül kiküldésre kerül az oktatási anyag(ok)hoz rendelt belépési útvonal és adatok\, illetve pénzügyileg teljesített számla. \n[/vc_column_text][vc_row_inner][vc_column_inner width=”1/2″][vc_column_text] \nNINCSENEK REJTETT KÖLTSÉGEK!!!\nA képzés mentes az adó alól az Áfa tv. 85.§. (2) alapján.[/vc_column_text][/vc_column_inner][vc_column_inner width=”1/2″][/vc_column_inner][/vc_row_inner][/vc_column][/vc_row] \n
URL:https://www.aktualis-ma.hu/rendezveny/compliance-penzmosas/
CATEGORIES:e-learning
ATTACH;FMTTYPE=image/jpeg:https://www.aktualis-ma.hu/wp-content/uploads/2018/10/e-per.jpg
ORGANIZER;CN="Mavor%20Legal%20Kft.":MAILTO:info@aktualis-ma.hu
END:VEVENT
END:VCALENDAR