BEGIN:VCALENDAR
VERSION:2.0
PRODID:-//Aktuális-MA - ECPv4.7.4//NONSGML v1.0//EN
CALSCALE:GREGORIAN
METHOD:PUBLISH
X-WR-CALNAME:Aktuális-MA
X-ORIGINAL-URL:https://www.aktualis-ma.hu
X-WR-CALDESC:Events for Aktuális-MA
BEGIN:VEVENT
DTSTART;TZID=Europe/Budapest:20210920T080000
DTEND;TZID=Europe/Budapest:20211216T170000
DTSTAMP:20260419T121735
CREATED:20210920T201252Z
LAST-MODIFIED:20210920T202503Z
UID:29053-1632124800-1639674000@www.aktualis-ma.hu
SUMMARY:Fogyasztóvédelmi fejlemények
DESCRIPTION:[vc_row leaf_row_scheme=”0″ css=”.vc_custom_1535543737295{border-bottom-width: 0px !important;padding-bottom: 0px !important;}”][vc_column][vc_column_text] \n    \n    	\n                	 Fogyasztóvédelmi fejlemények – A tisztességtelen kereskedelmi gyakorlatok tilalmával kapcsolatos aktuális kérdések                 \n        \n    \n    \n\n\n\n[/vc_column_text][vc_tta_tabs active_section=”1″ css=”.vc_custom_1587895824091{background-color: #ffffff !important;}”][vc_tta_section i_icon_fontawesome=”fa fa-info” add_icon=”true” title=”Általános információ” tab_id=”altalanos_inf_fogyasztovedelem”][vc_row_inner][vc_column_inner width=”1/2″][vc_column_text]    \n    	\n                	 A tartalomból                \n        \n    \nAz előadás a tisztességtelen kereskedelmi gyakorlatok tilalmával kapcsolatos közelmúltbeli fejleményeket mutatja be. Az előadás foglalkozik mind az Európai Bizottság külföldi hatóságok ügyeivel\, mind a Gazdasági Versenyhivatal és a közigazgatási bíróságok döntéseivel. Az előadást ajánljuk gazdasági joggal foglalkozó ügyvédek\, illetve magáncégek jogtanácsosainak\, illetve egyéb\, fogyasztóvédelemmel foglalkozó bírósági vagy közigazgatási alkalmazottaknak. \n[/vc_column_text][vc_column_text]    \n    	\n                	Tematika                \n        \n    \n\nNew deal for consumers\nOnline társkeresés\, szerencsejáték\, szállásfoglalás\, videójáték- és szoftverértékesítés fogyasztóvédelmi követelményei\nKözösségi média fogyasztóvédelmi kérdései\nJogellenes felhasználói értékelések\nÁrösszehasonlítással kapcsolatos problémák\nJogellenes árfeltüntetési gyakorlatok\nTiltott összehasonlító reklámok\n\n[/vc_column_text]    \n    	\n                	A képzés szakmai előadója                \n        \n    \n    [vc_single_image image=”22931″][vc_column_text] \nHorváth M. András LL.M.\, Ph.D. \nÜgyvéd \n[/vc_column_text][/vc_column_inner][vc_column_inner width=”1/2″]\n		\n			\n				\n					\n					Összefoglaló információk\n					\n				\n				 \nJogterület: Gazdasági – és versenyjog\nKépzés formája: e-learning\nKurzus időtartalma: (~) 120 perc\nFejezetek száma: 6 db \nFontos! A képzési anyag megtekintésére 2021.12.15-ig van lehetőség! \n(Az oktatási felület korlátlan számú belépést biztosít a kurzusban résztvevő számára a hozzáférési határidőig.) \nA képzési anyag megtekintéséért kreditpont nem szerezhető\, amennyiben az ügyvédi kreditpontot biztosító képzés érdekli ITT tájékozódhat.\n			\n		 [vc_empty_space]\n		\n			\n				\n					\n					Jegyek\n					\n				\n				Kedvezményes jegyár: 7620 Ft /fő \n2021.10. 31-ig vásárolt jegy esetében. \nA feltűntetett jegyár bruttó összeg\, mely tartalmazza az ÁFA összegét (1 620 Ft) \n\nStandard jegyár: 10 160 Ft /fő \n2021.10.31-ét követően vásárolt jegy esetében. \nA feltűntetett jegyár bruttó összeg\, mely tartalmazza az ÁFA összegét (2 160 Ft) \n\n			\n		 [vc_empty_space height=”16px”][vc_btn title=”JEGYVÁSÁRLÁS” color=”inverse” size=”lg” align=”center” i_icon_fontawesome=”fa fa-id-card-o” add_icon=”true” link=”url:https%3A%2F%2Fwww.aktualis-ma.hu%2Frendezveny%2Ffogyasztovedelmi-fejlemenyek%2F%23jegyvasarlas_fogyasztovedelem||target:%20_blank|”][/vc_column_inner][/vc_row_inner][vc_row_inner][vc_column_inner][vc_cta h2=”További képzésekről ITT tájékozódhat!” h2_font_container=”font_size:30|color:%23606060″ h2_use_theme_fonts=”yes” h2_css_animation=”bounceInLeft” txt_align=”center” style=”3d” use_custom_fonts_h2=”true” h2_link=”url:https%3A%2F%2Fwww.aktualis-ma.hu%2Fonline-jogi-anyagok-kreditpont-nelkul%2F||target:%20_blank|”][/vc_cta][/vc_column_inner][/vc_row_inner][/vc_tta_section][vc_tta_section i_icon_fontawesome=”fa fa-check” add_icon=”true” title=”Előnyök” tab_id=”elonyok_fogyasztovedelem”][vc_row_inner][vc_column_inner][vc_column_text]    \n    	\n                	MAVOR Legal Kft. – A tanulás jövője                \n        \n    \nAz online tanulás egyre elterjedtebb lesz\, ezért érdemes hozzá alkalmazkodni és kihasználni a benne rejlő lehetőségeket. \nA MAVOR Legal Kft. által alkalmazott e-learning képzési módszer szerint\, az oktató és a képzésben résztvevő időben és térben is teljesen elkülönül egymástól. \n    \n    	\n                	A képzési módszer előnyei:                \n        \n    \n    \nHatékonyság\, eredményesség kötöttségek és korlátok nélkül. \n\na tanulás bárhol\, bármikor saját haladási tempóban végezhető\nglobális hozzáférést biztosít a tudáshoz korlátok nélkül (időben és térben)\negyéni tanulási módszerhez\, és képzési szükségletekhez igazított\naz oktatást annyiszor ismételheti meg\, ahányszor az egyéni igényeihez szükséges\na családi és munkahelyi kötelezettségek és a tanulmányi feladatok jól összeegyeztethetőkké válnak\ncsökkennek az oktatáshoz\, képzéshez kapcsolódó járulékos költségek (pl.: utazás\, szállás stb.)\na tanulási folyamat üteme nyomon követhető\, naplózható és a megszerzett tudás mérhető\n\nTöbb órás képzési anyagaink 15-25 perces fejezetekre vannak bontva\, így nem szükséges egyszerre\, rászánnia több órát a megtekintésre. \nNe maradjon le semmiről\, a fejezet közben az oktatási anyag bármikor megállítható a megtekintett fejezet pedig újra meghallgatható\, illetve biztosított az előre-és visszatekerés lehetősége. \n\n  \nAmennyiben a fentieken túl bármilyen kérdése felmerül\, kérem keresse ügyfélszolgálatunkat\, készséggel állunk rendelkezésére az alábbi elérhetőségeken: \nTelefonos ügyfélszolgálat: +36 70 586 7791 \nÜgyfélszolgálati idő: hétfő-csütörtök: 8:30-16:30\, péntek: 8:30-14:30 \nE-mail cím: info@aktualis-ma.hu \nMAVOR Legal Kft.\nKövessen minket facebookon is! \n[/vc_column_text][/vc_column_inner][/vc_row_inner][/vc_tta_section][vc_tta_section i_position=”right” i_icon_fontawesome=”fa fa-exclamation” add_icon=”true” title=”JEGYVÁSÁRLÁS” tab_id=”jegyvasarlas_fogyasztovedelem”][/vc_tta_section][/vc_tta_tabs][/vc_column][/vc_row][vc_row][vc_column width=”1/2″][vc_column_text] \nAmennyiben bérletajánlatunk felkeltette érdeklődését\, kérjük kattintson a képre > > >\n[/vc_column_text][/vc_column][vc_column width=”1/2″][vc_single_image image=”23590″ img_size=”630×192″ alignment=”center” onclick=”custom_link” img_link_target=”_blank” css_animation=”none” link=”https://www.aktualis-ma.hu/rendezveny/korlatlan-digitalis-konyvtar-berlet/”][/vc_column][/vc_row][vc_row][vc_column]\n		\n			\n				\n					\n					Mi történik a megrendelés elküldését követően?\n					\n				\n				 \nA megrendelés elküldését követően\, minden pénzügyi teljesítéshez szükséges információt megküldünk a regisztráció során megadott e-mailcímre. \nAmennyiben a visszaigazolásban feltűntetett díj kiegyenlítésre kerül\, hozzáférést küldünk Önnek\, mely tartalmazza az oktatási anyag(ok)hoz rendelt belépési útvonalat és adatokat\, illetve a pénzügyileg teljesített számlát. \n\n			\n		 [/vc_column][/vc_row] \n
URL:https://www.aktualis-ma.hu/rendezveny/fogyasztovedelmi-fejlemenyek/
ORGANIZER;CN="Mavor%20Legal%20Kft.":MAILTO:info@aktualis-ma.hu
END:VEVENT
END:VCALENDAR