BEGIN:VCALENDAR
VERSION:2.0
PRODID:-//Aktuális-MA - ECPv4.7.4//NONSGML v1.0//EN
CALSCALE:GREGORIAN
METHOD:PUBLISH
X-WR-CALNAME:Aktuális-MA
X-ORIGINAL-URL:https://www.aktualis-ma.hu
X-WR-CALDESC:Events for Aktuális-MA
BEGIN:VEVENT
DTSTART;TZID=Europe/Budapest:20201002T100000
DTEND;TZID=Europe/Budapest:20201002T153000
DTSTAMP:20260420T001327
CREATED:20200405T165542Z
LAST-MODIFIED:20200917T124429Z
UID:12414-1601632800-1601652600@www.aktualis-ma.hu
SUMMARY:Hatékony jogi eszközök pénzkövetelések behajtásához\, biztosításához (8 kredit) - Budapest
DESCRIPTION:[vc_row leaf_row_scheme=”0″ css=”.vc_custom_1535543737295{border-bottom-width: 0px !important;padding-bottom: 0px !important;}”][vc_column][vc_column_text] \nTisztelt Résztvevőink/Érdeklődőink! \nTekintettel a jelenlegi és várható fokozódó járványügyi helyzetre\, valamint figyelembe véve a Koronavírus-fertőzés Elleni Védekezésért Felelős Operatív Törzs tájékoztatásait a 2020-as év további részére tervezett élőszavas képzési eseményeinket elhalasztjuk. \nKialakítottuk az előszavas\, kontakt képzési események kiváltását biztosító online oktatási rendszerünket\, hogy előírt továbbképzési kötelezettségeit a veszélyhelyzet alatt\, otthonról is gondtalanul teljesíthesse. \n \n					.button-button_button_39.btn-primary{background-color:#4d4d4d;}\n					.button-button_button_39.btn-primary:hover{box-shadow: 0 0 25px -3px #4d4d4d;}\n				    	\n        Jelen képzési eseményünk e-learning formában is megtalálható ITT        \n         \n[/vc_column_text][/vc_column][vc_column][vc_tta_tabs active_section=”1″ css=”.vc_custom_1587895340596{background-color: #ffffff !important;border-radius: 2px !important;}”][vc_tta_section i_icon_fontawesome=”fa fa-info” add_icon=”true” title=”Általános információ” tab_id=”1533823033159-c2b08946-5c7e105d-624ffe9a-31cbf177-e0375a58-a2a8f2d4-625854dd-0df3a840-5a4fcd7a-6328b0ae-c4dd3260-943e”][vc_column_text] \n\n\nMiről is lesz szó?\n\n\n\n\nMindenkivel előfordult (vagy elő fog…)\, hogy a szerződéses partnerének vállalt munkát elvégezte\, de nem fizették ki annak ellenértékét. Ennek a helyzetnek a kezelése lehet hosszadalmas és bizonytalan is\, de ha ismeri a jogi lehetőségeit és tudatosan jár el\, az ilyen szituációk száma csökkenthető. \nA képzésünk célja\, hogy bemutassa azokat a legális eszközöket\, amelyekkel pénzkövetelésének érvényesítését biztosabbá és/vagy gyorsabbá tegye\, valamint\, hogy elkerülhesse a szerződéskötés során gyakran előforduló hibákat. \nA Polgári Törvénykönyvön (Ptk.) és a polgári perrendtartásól (Pp.) kívül a képzés kitér azokra az egyéb jogintézményekre is\, amelyek a követeléskezelés során hasznosak lehetnek. \n\n\n[/vc_column_text][vc_row_inner][vc_column_inner width=”1/2″][vc_column_text] \n\n\nTematika\n\n\n\n\n\nA kamat és a behajtási költségátalány hatályos szabályai.\nMikor és hányszor 40 EUR követelhető?\nA szerződéskötés előtti teendők: az általános szerződési feltételek\nA szerződéses tárgyalások gyakori buktatói: milyen formában célszerű kommunikálni?\nMilyen jogi ereje van egy emailnek vagy egy faxnak?\nMik a teljes bizonyító erejű magánokirat és a közokirat előnyei?\nA hagyományos biztosítékok: kezesség\, zálogjog\, garancia\nRitkább\, de néha hatékonyabb eszközök: a váltó\, a felhatalmazásos inkasszó\nA tartozáselismerés és a tulajdonjog fenntartása\nDióhéjban a váltóról\nA követelés érvényesítésére szolgáló eljárások.\nA fizetési meghagyás és az “új Pp.” szerinti polgári per\n\nA képzés nyilvántartásba vételi száma: Ny/80/2020 \n\n\n[/vc_column_text][/vc_column_inner][vc_column_inner width=”1/2″][vc_column_text] \nSzakmai előadó:\n[/vc_column_text][vc_single_image image=”5977″ alignment=”center”][vc_column_text] \n\n\nDr. Kerepesy Krisztián \nbíró – Pesti Központi Kerületi Bíróság \n\n\n\n\n\n[/vc_column_text][vc_empty_space][/vc_column_inner][/vc_row_inner][vc_row_inner][vc_column_inner][vc_column_text] \n\nA MAVOR Legal Kft. a Magyar Ügyvédi Kamara által az ügyvédi tevékenységet végzők továbbképzésére akkreditált képzési hely. \nAkkreditációs szám: AK23/2019  \nA kreditpont a Továbbképzési Kötelezettség teljesítésének mérésére szolgál. Kizárólag azon a Képzési eseményen szerezhető kreditpont\, amelyet a MÜK Oktatási és Akkreditációs Bizottsága nyilvántartásba vett és hozzá kreditpontot rendelt. \n\n\n\n\n[/vc_column_text][/vc_column_inner][/vc_row_inner][vc_row_inner][vc_column_inner width=”1/2″]    \n    	\n                	Időpont                \n        \n    \n    [vc_column_text] \nElőadás: \n2020. október 02. 10:00-15:30 \nRegisztráció:\n9:30-tól \n[/vc_column_text][/vc_column_inner][vc_column_inner width=”1/2″]    \n    	\n                	Helyszín                \n        \n    \n    [vc_column_text] \nBudapest belvárosa \nfrekventált\, tömegközlekedéssel is jól megközelíthető helyen. Pontos helyszínmegjelölés rendezvény előtt 7 nappal\, melyről elektronikus levél formájában tájékoztatni fogjuk\, a regisztráció során megadott elérhetőségen. \n[/vc_column_text][/vc_column_inner][/vc_row_inner][/vc_tta_section][vc_tta_section title=”Tájékoztató az élőszavas képzésekről” tab_id=”1586106382750-4078518f-28b0″][vc_column_text]A részvétel az élőszavas konferencián óránként 1 kreditpont ér\, ennek igazolására az érkezéskor és távozáskor aláírt jelenléti ív szolgál. Amennyiben ez eseményt sikeres számonkéréssel (vizsga) zárja\, abban az esetben a részvétel a konferencián óránként 2 kreditpont ér. A számonkérés formája feleletválasztós teszt kitöltése\, mely abban az esetben minősül sikeresnek\, amennyibben Ön a helyes válaszok legalább 60%-át megjelölte. Az élőszavas konferencián való részvételért Önt abban az esetben is megilleti óránként 1 kreditpont\, amennyiben a záróvizsgát 60% alatt teljesítette. \nA MAVOR Legal Kft. a Magyar Ügyvédi Kamara által az ügyvédi tevékenységet végzők továbbképzésére akkreditált képzési helyként vállalja\, hogy a rendezvényt követő 15 napon belül a képzési eseményen megszerzett kreditpontról igazolást állít ki a résztvevőnek\, és ugyanezen időn belül valamennyi\, az adott kamaránál nyilvántartott résztvevő megszerzett kreditpontját közli a kamarával elektronikus úton. \nAmennyiben Ön papír alapú tanúsítvány kiállítását igényli\, abban az esetben kérjük jelezze igényét az info@mavor.hu emailcímre.  \nA papír alapú tanúsítvány kiállításának és megküldésének díja 1000.-Ft+Áfa/küldemény\, melyről adminisztrációs díjként számla kerül kiállításra és megküldésre az igénylő részére.[/vc_column_text][/vc_tta_section][vc_tta_section i_position=”right” i_icon_fontawesome=”fa fa-exclamation” add_icon=”true” title=”JEGYVÁSÁRLÁS” tab_id=”1535032668369-12e5d6d1-0656105d-624ffe9a-31cbf177-e0375a58-a2a8f2d4-625854dd-0df3a840-5a4fcd7a-6328b0ae-c4dd3260-943e”][vc_row_inner][vc_column_inner width=”3/4″]    \n    	\n                	Válassza ki a megvásárolni kívánt jegyeket!                \n        \n    \n    [/vc_column_inner][vc_column_inner width=”1/4″]    	    	\n            \n            	                \n                	\n                \n                            \n            \n                            \n            \n        \n        	[/vc_column_inner][/vc_row_inner][/vc_tta_section][/vc_tta_tabs][vc_row_inner][vc_column_inner][vc_column_text]NINCSENEK REJTETT KÖLTSÉGEK!!! \nA megjelenített jegyár bruttóban van feltüntetve\, már tartalmazza az ÁFA (27%) összegét.[/vc_column_text][/vc_column_inner][/vc_row_inner][/vc_column][/vc_row] \n
URL:https://www.aktualis-ma.hu/rendezveny/hatekony-jogi-eszkozok-penzkovetelesek-behajtasahoz-biztositasahoz-8-kredit-budapest/
LOCATION:Budapest\, Magyarország
CATEGORIES:előszavas képzés
ORGANIZER;CN="Mavor%20Legal%20Kft.":MAILTO:info@aktualis-ma.hu
END:VEVENT
END:VCALENDAR