BEGIN:VCALENDAR
VERSION:2.0
PRODID:-//Aktuális-MA - ECPv4.7.4//NONSGML v1.0//EN
CALSCALE:GREGORIAN
METHOD:PUBLISH
X-WR-CALNAME:Aktuális-MA
X-ORIGINAL-URL:https://www.aktualis-ma.hu
X-WR-CALDESC:Events for Aktuális-MA
BEGIN:VEVENT
DTSTART;TZID=Europe/Budapest:20191121T100000
DTEND;TZID=Europe/Budapest:20191121T140000
DTSTAMP:20260423T145856
CREATED:20190823T113758Z
LAST-MODIFIED:20191106T200231Z
UID:10032-1574330400-1574344800@www.aktualis-ma.hu
SUMMARY:Hatékony jogi eszközök pénzkövetelések behajtásához\, biztosításához - Budapest
DESCRIPTION:[vc_row leaf_row_scheme=”0″ css=”.vc_custom_1535543737295{border-bottom-width: 0px !important;padding-bottom: 0px !important;}”][vc_column][vc_column_text]HELYSZÍNVÁLTOZÁS! \nStar City Hotel**** \nLa Prima Fashion Hotel \n1052 Budapest\, Piarista u. 6.[/vc_column_text][vc_tta_tabs active_section=”1″][vc_tta_section i_icon_fontawesome=”fa fa-info” add_icon=”true” title=”Általános információ” tab_id=”1533823033159-c2b08946-5c7e105d-624ffe9a-31cbf177-e0375a58-a2a8f2d4-625854dd-0df335f6-466fa882-3227a00c-c33cac62-c2315069-1ede”][vc_column_text]Mindenkivel előfordult (vagy elő fog…)\, hogy a szerződéses partnerének vállalt munkát elvégezte\, de nem fizették ki annak ellenértékét. Ennek a helyzetnek a kezelése lehet hosszadalmas és bizonytalan is\, de ha ismeri a jogi lehetőségeit és tudatosan jár el\, az ilyen szituációk száma csökkenthető. \nA képzésünk célja\, hogy bemutassa azokat a legális eszközöket\, amelyekkel pénzkövetelésének érvényesítését biztosabbá és/vagy gyorsabbá tegye\, valamint hogy elkerülhesse a szerződéskötés során gyakran előforduló hibákat.\nA Polgári Törvénykönyvön (Ptk.) és a polgári perrendtartásól (Pp.) kívül a képzés kitér azokra az egyéb jogintézményekre is\, amelyek a követeléskezelés során hasznosak lehetnek \nAz előadáson való részvétel a 277/1997. (XII. 22.) Korm. rendelet 5. § (3) d) bekezdése alapján beszámítható a hétévenkénti pedagógus-továbbképzésbe.[/vc_column_text][vc_row_inner][vc_column_inner width=”1/3″]    \n    	\n                	Időpont                \n        \n    \n    [vc_column_text] \nElőadás: \nIDŐPONTVÁLTOZÁS \n2019. szeptember 27. 10:00-14:00\n2019. november 21. 10:00-14:00 \nRegisztráció:\n9:30-tól \n[/vc_column_text][/vc_column_inner][vc_column_inner width=”1/3″]    \n    	\n                	Helyszín                \n        \n    \n    [vc_column_text] \nLa Prima Fashion Hotel \n1052 Budapest\, Piarista u. 6. \nStar City Hotel**** \n1078 Budapest\, István utca 14. \n[/vc_column_text][/vc_column_inner][vc_column_inner width=”1/3″][vc_single_image image=”8916″ img_size=”full” alignment=”center”][/vc_column_inner][/vc_row_inner][/vc_tta_section][vc_tta_section i_icon_fontawesome=”fa fa-file-text-o” add_icon=”true” title=”Tematika” tab_id=”1533819871856-e4e5f150-8c60105d-624ffe9a-31cbf177-e0375a58-a2a8f2d4-625854dd-0df335f6-466fa882-3227a00c-c33cac62-c2315069-1ede”]    	\n        Letöltöm a részletes tematikát         \n        [vc_empty_space][vc_column_text] \n\nA kamat és a behajtási költségátalány hatályos szabályai. Mikor és hányszor 40 EUR követelhető?\nA szerződéskötés előtti teendők: az általános szerződési feltételek\nA szerződéses tárgyalások gyakori buktatói: milyen formában célszerű kommunikálni? Milyen jogi ereje van egy emailnek vagy egy faxnak?\nMik a teljes bizonyító erejű magánokirat és a közokirat előnyei?\nA hagyományos biztosítékok: kezesség\, zálogjog\, garancia\nRitkább\, de néha hatékonyabb eszközök: a váltó\, a felhatalmazásos inkasszó\nA tartozáselismerés és a tulajdonjog fenntartása\nDióhéjban a váltóról\nA követelés érvényesítésére szolgáló eljárások. A fizetési meghagyás és az “új Pp.” szerinti polgári per\n\n[/vc_column_text][/vc_tta_section][vc_tta_section i_icon_fontawesome=”fa fa-user-o” add_icon=”true” title=”Előadók” tab_id=”1533822441281-092a6de7-7d36105d-624ffe9a-31cbf177-e0375a58-a2a8f2d4-625854dd-0df335f6-466fa882-3227a00c-c33cac62-c2315069-1ede”][vc_row_inner][vc_column_inner width=”1/3″][vc_single_image image=”5977″ img_size=”full” alignment=”center”][vc_column_text] \nDr. Kerepesy Krisztián\nbíró\nPesti Központi Kerületi Bíróság \n[/vc_column_text][/vc_column_inner][vc_column_inner width=”1/3″][/vc_column_inner][vc_column_inner width=”1/3″][/vc_column_inner][/vc_row_inner][/vc_tta_section][vc_tta_section i_icon_fontawesome=”fa fa-credit-card” add_icon=”true” title=”Árak” tab_id=”1533819871877-2ce09627-0015105d-624ffe9a-31cbf177-e0375a58-a2a8f2d4-625854dd-0df335f6-466fa882-3227a00c-c33cac62-c2315069-1ede”][vc_row_inner][vc_column_inner width=”1/3″]\n		\n			\n				\n					Early Bird\n					22 900 Ft\n					+Áfa/fő\n				\n				11.08-tól 11.15-ig\, vásárolt jegy esetén!✔ Kiadvány\naz előadás anyag kiadvány formájában✔ Eszközök jegyzeteléshez\nmappa\, toll\, jegyzetfüzet✔ Tananyag\nAz előadást követően az előadás anyaga elektronikus formában elküldve.✔ WIFI\nWIFI használat a termekben és a közösségi terekben\n			\n		 [/vc_column_inner][vc_column_inner width=”1/3″]\n		\n			\n				\n					SUPER Early Bird\n					18 900 Ft\n					+Áfa/fő\n				\n				11.07-ig vásárolt jegy esetén!✔ Kiadvány\naz előadás anyag kiadvány formájában✔ Eszközök jegyzeteléshez\nmappa\, toll\, jegyzetfüzet✔ Tananyag\nAz előadást követően az előadás anyaga elektronikus formában elküldve.✔ WIFI\nWIFI használat a termekben és a közösségi terekben\n			\n		 [/vc_column_inner][vc_column_inner width=”1/3″]\n		\n			\n				\n					Standard\n					24 900 Ft\n					+ÁFA/fő\n				\n				11.15. után vásárolt jegy esetén!✔ Kiadvány\naz előadás anyag kiadvány formájában✔ Eszközök jegyzeteléshez\nmappa\, toll\, jegyzetfüzet✔ Tananyag\nAz előadást követően az előadás anyaga elektronikus formában elküldve.✔ WIFI\nWIFI használat a termekben és a közösségi terekben\n			\n		 [/vc_column_inner][/vc_row_inner][/vc_tta_section][vc_tta_section i_position=”right” i_icon_fontawesome=”fa fa-exclamation” add_icon=”true” title=”JEGYVÁSÁRLÁS” tab_id=”1535032668369-12e5d6d1-0656105d-624ffe9a-31cbf177-e0375a58-a2a8f2d4-625854dd-0df335f6-466fa882-3227a00c-c33cac62-c2315069-1ede”][vc_row_inner][vc_column_inner width=”3/4″]    \n    	\n                	Válassza ki a megvásárolni kívánt jegyeket!                \n        \n    \n    [vc_column_text]Papír alapú jelentkezéshez töltse le formanyomtatványunkat![/vc_column_text][/vc_column_inner][vc_column_inner width=”1/4″]    	    	\n            \n            	                \n                	\n                \n                            \n            \n                            \n            \n        \n        	[/vc_column_inner][/vc_row_inner][/vc_tta_section][/vc_tta_tabs][/vc_column][/vc_row] \n
URL:https://www.aktualis-ma.hu/rendezveny/hatekony-jogi-eszkozok-penzkovetelesek-behajtasahoz-biztositasahoz-budapest/
LOCATION:La Prima Fashion Hotel\, Budapest\, Piarista u. 6.\, 1052\, Magyarország
CATEGORIES:Konferencia
ORGANIZER;CN="Mavor%20Legal%20Kft.":MAILTO:info@aktualis-ma.hu
END:VEVENT
END:VCALENDAR