BEGIN:VCALENDAR
VERSION:2.0
PRODID:-//Aktuális-MA - ECPv4.7.4//NONSGML v1.0//EN
CALSCALE:GREGORIAN
METHOD:PUBLISH
X-WR-CALNAME:Aktuális-MA
X-ORIGINAL-URL:https://www.aktualis-ma.hu
X-WR-CALDESC:Events for Aktuális-MA
BEGIN:VEVENT
DTSTART;TZID=Europe/Budapest:20230101T080000
DTEND;TZID=Europe/Budapest:20231231T170000
DTSTAMP:20260419T195704
CREATED:20220307T132638Z
LAST-MODIFIED:20230404T125243Z
UID:33255-1672560000-1704042000@www.aktualis-ma.hu
SUMMARY:Jogi személyek\, gazdasági társaságok\, KFT.\, különös tekintettel a Ptk. 2022. január 1-től hatályba lépő változásaira (4 kredit)
DESCRIPTION:[vc_row leaf_row_scheme=”0″ css=”.vc_custom_1535543737295{border-bottom-width: 0px !important;padding-bottom: 0px !important;}”][vc_column][vc_row_inner][vc_column_inner width=”2/3″][vc_column_text] \n    \n    	\n                	Cégjog aktualitásai                 \n        \n    \n    \n\n\n\n[/vc_column_text][/vc_column_inner][vc_column_inner width=”1/3″]    \n    	\n                	4 kredit                \n        \n    \n    [/vc_column_inner][/vc_row_inner][vc_tta_tabs active_section=”1″ css=”.vc_custom_1587895824091{background-color: #ffffff !important;}”][vc_tta_section i_icon_fontawesome=”fa fa-info” add_icon=”true” title=”Általános információ” tab_id=”altalanos_inf_01d5-9430″][vc_row_inner][vc_column_inner width=”1/2″][vc_column_text]    \n    	\n                	Ajánló                \n        \n    \nA Polgári Törvénykönyvről szóló 2013. évi V. törvény módosításáról szóló 2021. évi XCV. törvény több\, jelentős változtatást hajtott végre a jogi személyek\, a gazdasági társaságok és a kft-k szabályozása terén. Az előadás a hatályba lépett módosítások feldolgozásával arra a témakörökre\, amikre az ügyvédeknek különösen ügyelniük kell a hívatásuk gyakorlása során. Konkrét javaslatokat fogalmaz meg az adatvédelem és az elektronikus hírközlési eszközök használatára is. \nAz előadás a jogi személyekkel kapcsolatos\, a Polgári Törvénykönyvről szóló 2013. évi V. törvény módosításáról szóló 2021. évi XCV. törvény által 2022. január 1-től hatályba lépett változásokra összpontosít\, és ennek során részletesebben foglalkozik a korlátolt felelősségű társásgokat érintő változásokra és az ezzel kapcsolatos tudnivalókat foglalja össze az ügyvédek szempontjából. Az előadás nem az általános tudnivalókra összpontosít\, hanem azokra a témakörökre\, amikre az ügyvédeknek különösen ügyelniük kell a hívatásuk gyakorlása során.[/vc_column_text][vc_column_text]    \n    	\n                	Tematika                \n        \n    \nAz előadás három fő részből áll: \nAz előadás első részében ismertetésre kerülnek a jogi személyre vonatkozó jogszabályi rendelkezések\, különös tekintettel a Polgári Törvénykönyvről szóló 2013. évi V. törvény módosításáról szóló 2021. évi XCV. törvény által bevezetett változásokra. \nAz előadás második részében a Korlátolt Felelősségű Társaságok Ctv-ben meghatározott mintaszerződése alapján követi végig\, a társasági szerződések kötelező tartalmára vonatkozó jogszabályi előírásokat. A tapasztalatok szerint az ügyvédek szívesen alkalmazzák a szerződésmintát\, de mint minden minta sokszor automatizmusokhoz vezethet. Ugyanakkor a szerződésminta tartalmazza azokat az alternatív megoldásokat\, a jogszabályokban megfogalmazott lehetőségeket\, amelyeket az ügyvédeknek a Kft-k alapításakor\, illetve a cégváltozások során figyelembe kell venniük\, illetve azokról az ügyfeleket tájékoztatniuk kell. \nAz előadás nem csak a lehetőségekre tér ki\, hanem foglalkozik azzal\, hogy az adott pontnál az okiratszerkesztő ügyvédnek milyen vonatkozó egyéb jogszabályi rendelkezésekre kell figyelemmel lenni\, illetve milyen problémákra jelent megoldást az egyes lehetőségek kiválasztása. \nKiemelten foglalkozik azokkal a területekkel\, ahol az ügyvédnek azonosítási és átvilágítási kötelezettsége van. \nAz adatvédelem területén segít tisztázni a GDPR-ból levezethető\, de az egyéb jogszabályokon alapuló adatkezelési kötelezettségeket is. \nA harmadik rész kiemelten a taggyűlés témakörével foglalkozik. Ebben a témakörben áttekintésre kerülnek a taggyűlés összehívásával kapcsolatos ügyvédi teendők\, egészen a taggyűlési meghívó összeállításától a taggyűlés levezetéséig\, jegyzőkönyvezéséig. \nEnnek keretében kerül sor az elektronikus hírközlési eszközök alkalmazásának kérdése is\, különösen a koronavírus járvány miatti intézkedések miatt.[/vc_column_text]    \n    	\n                	A képzés szakmai előadója                \n        \n    \n    [vc_single_image image=”5596″ img_size=”200×200″][vc_column_text] \nDr. Rácz József – ügyvéd \n[/vc_column_text][/vc_column_inner][vc_column_inner width=”1/2″]\n		\n			\n				\n					\n					Összefoglaló információk\n					\n				\n				Előadó: Dr. Rácz József – ügyvéd \nJogterület:  Gazdasági jog\nKépzés formája: e-learning\nKurzus időtartalma: (~) 240 perc\nFejezetek száma: 12 db \nMegtekinthető: A belépési adatok kiküldésétől számított 60 napig- de legkésőbb december 15-ig. \nNyilvántartásba vételi szám: NY002037/2022 \nEhhez a képzési anyaghoz NEM tartozik vizsga a megtekintésért 4 kredit jár! \n(Az oktatási felület korlátlan számú belépést biztosít a kurzusban résztvevő számára a hozzáférési határidőig.)\n			\n		 [vc_empty_space]\n		\n			\n				\n					\n					Jegyek\n					\n				\n				Standard jegyár : 24 000 Ft /képzés / fő \n\nNINCSENEK REJTETT KÖLTSÉGEK!!!\nA képzés mentes az adó alól az Áfa tv. 85.§. (2) alapján.\n			\n		 [vc_empty_space height=”16px”][vc_btn title=”JEGYVÁSÁRLÁS” color=”inverse” size=”lg” align=”center” i_icon_fontawesome=”fa fa-id-card-o” add_icon=”true” link=”url:https%3A%2F%2Fwww.aktualis-ma.hu%2Frendezveny%2Fjogi-szemelyek-gazdasagi-tarsasagok-kft-kulonos-tekintettel-a-ptk-2022-januar-1-tol-hatalyba-lepo-valtozasaira%2F%23jegy_01d5-9430||target:%20_blank|”][vc_empty_space][vc_single_image image=”40481″ img_size=”590*1004″ alignment=”center” style=”vc_box_shadow_border” onclick=”custom_link” img_link_target=”_blank” link=”https://www.aktualis-ma.hu/rendezveny/tagsagi-jegy-2023/”][vc_empty_space][vc_cta h2=”További kreditpontos képzésekről ITT tájékozódhat!” h2_font_container=”font_size:30|color:%23ffffff” h2_use_theme_fonts=”yes” h2_css_animation=”bounceInLeft” txt_align=”center” style=”custom” use_custom_fonts_h2=”true” h2_link=”url:https%3A%2F%2Fwww.aktualis-ma.hu%2Fuj-ugyvedi-torveny%2F||target:%20_blank|” custom_background=”#444444″ custom_text=”#ffffff”][/vc_cta][/vc_column_inner][/vc_row_inner][/vc_tta_section][vc_tta_section title=”Tájékoztató E-learning képzésről” tab_id=”tajekoztato01d5-9430″][vc_row_inner][vc_column_inner][vc_column_text] \n    \n    	\n                	Részletes tájékoztatás az e-learning képzés menetéről:                \n        \n    \n    \n\n\n\n[/vc_column_text][vc_column_text]Mi történik a megrendelés elküldését követően? \nA megrendelés elküldését követően\, minden pénzügyi teljesítéshez szükséges információt megküldünk a regisztráció során megadott e-mailcímre. Amennyiben a visszaigazolásban feltűntetett díj kiegyenlítésre kerül\, megküldjük Önnek az oktatási anyag(ok)hoz rendelt belépési útvonalat és adatokat\, illetve pénzügyileg teljesített számlát. \nRészletek a kurzusról és az oktatási felület működéséről \n\nKurzus időtartalma: 240 perc\nFejezetek száma: 12 db\n\nMinden fejezet végén a rendszer feltesz Önnek egy éberségellenőrző kérdést az elhangzott oktatási anyaghoz kapcsolódóan. \nA fejezetek közötti éberségellenőrző kérdésről: \n\nA kérdések száma a kurzuson belül: 1 db/fejezet\nA kérdések formája: feleletválasztós teszt\nKitöltés módja: jelölőnégyzet használatával\n\nA kurzus megtekintésért és az ellenőrzőpontokon történő helyes kérdés megválaszolásért\, a szabályzat szerint 4 kreditpont adható. \n*Az oktatási felület korlátlan számú belépést biztosít a kurzusban résztvevő számára a megtekintési határidőig. \nEhhez a képzési anyaghoz NEM tartozik vizsga! \nA megszerzett kreditpontok lejelentéséről a MÜK rendszerébe cégünk gondoskodik\, Önnek további teendője nincs. \n\nTechnikai segítség a bejelentkezés során felmerülő akadályok kezeléséhez >>> \n\nAmennyiben a fentieken túl bármilyen kérdése felmerül\, kérem keresse ügyfélszolgálatunkat\, készséggel állunk rendelkezésére az alábbi elérhetőségeken: \nTelefonos ügyfélszolgálat: +36 70 586 7791 \nÜgyfélszolgálati idő: hétfő-csütörtök: 9:00-16:30\, péntek: 9:00-14:30 \nE-mail cím: info@aktualis-ma.hu \nMAVOR Legal Kft.\nKövessen minket facebookon is! \n[/vc_column_text][/vc_column_inner][/vc_row_inner][/vc_tta_section][vc_tta_section i_icon_fontawesome=”fa fa-check” add_icon=”true” title=”Előnyök” tab_id=”elony_01d5-9430″][vc_row_inner][vc_column_inner][vc_column_text]    \n    	\n                	MAVOR Legal Kft. – A tanulás jövője                \n        \n    \nAz online tanulás egyre elterjedtebb lesz\, ezért érdemes hozzá alkalmazkodni és kihasználni a benne rejlő lehetőségeket. \nA MAVOR Legal Kft. által alkalmazott e-learning képzési módszer szerint\, az oktató és a képzésben résztvevő időben és térben is teljesen elkülönül egymástól. \n    \n    	\n                	A képzési módszer előnyei:                \n        \n    \n    \nHatékonyság\, eredményesség kötöttségek és korlátok nélkül. \n\n\n\na tanulás bárhol\, bármikor saját haladási tempóban végezhető\nglobális hozzáférést biztosít a tudáshoz korlátok nélkül (időben és térben)\negyéni tanulási módszerhez\, és képzési szükségletekhez igazított\naz oktatást annyiszor ismételheti meg\, ahányszor az egyéni igényeihez szükséges\na családi és munkahelyi kötelezettségek és a tanulmányi feladatok jól összeegyeztethetőkké válnak\ncsökkennek az oktatáshoz\, képzéshez kapcsolódó járulékos költségek (pl.: utazás\, szállás stb.)\na tanulási folyamat üteme nyomon követhető\, naplózható és a megszerzett tudás mérhető\naz online tananyag naprakész mely a folyamatosan változó jogszabályok\, törvény módosítások által befolyásolt szakterület esetében igen fontos szempont – könnyen karbantartható (aktualizálható)\, illetve felújítható\n\n\n\nTöbb órás képzési anyagaink 15-25 perces fejezetekre vannak bontva\, így nem szükséges egyszerre\, rászánnia több órát a megtekintésre. \nOktatási rendszerünk minden megtekintett fejezetet naplóz\, így Ön onnan folytathatja\, ahol abbahagyta. \nNe maradjon le semmiről\, a fejezet közben az oktatási anyag bármikor megállítható a megtekintett fejezet pedig újra meghallgatható\, illetve biztosított az előre-és visszatekerés lehetősége.[/vc_column_text][/vc_column_inner][/vc_row_inner][/vc_tta_section][vc_tta_section i_position=”right” i_icon_fontawesome=”fa fa-exclamation” add_icon=”true” title=”JEGYVÁSÁRLÁS” tab_id=”jegy_01d5-9430″][/vc_tta_section][/vc_tta_tabs][/vc_column][/vc_row][vc_row][vc_column]\n		\n			\n				\n					\n					Mi történik a megrendelés elküldését követően?\n					\n				\n				 \nA megrendelés elküldését követően\, minden pénzügyi teljesítéshez szükséges információt megküldünk a regisztráció során megadott e-mailcímre. \nAmennyiben a visszaigazolásban feltűntetett díj kiegyenlítésre kerül\, hozzáférést küldünk Önnek\, mely tartalmazza az oktatási anyag(ok)hoz rendelt belépési útvonalat és adatokat\, illetve a pénzügyileg teljesített számlát. \n\n			\n		 [/vc_column][/vc_row] \n
URL:https://www.aktualis-ma.hu/rendezveny/jogi-szemelyek-gazdasagi-tarsasagok-kft-kulonos-tekintettel-a-ptk-2022-januar-1-tol-hatalyba-lepo-valtozasaira/
ORGANIZER;CN="Mavor%20Legal%20Kft.":MAILTO:info@aktualis-ma.hu
END:VEVENT
END:VCALENDAR