BEGIN:VCALENDAR
VERSION:2.0
PRODID:-//Aktuális-MA - ECPv4.7.4//NONSGML v1.0//EN
CALSCALE:GREGORIAN
METHOD:PUBLISH
X-WR-CALNAME:Aktuális-MA
X-ORIGINAL-URL:https://www.aktualis-ma.hu
X-WR-CALDESC:Events for Aktuális-MA
BEGIN:VEVENT
DTSTART;TZID=Europe/Budapest:20200706T000000
DTEND;TZID=Europe/Budapest:20201231T000000
DTSTAMP:20260419T181517
CREATED:20200623T151003Z
LAST-MODIFIED:20201001T082909Z
UID:14722-1593993600-1609372800@www.aktualis-ma.hu
SUMMARY:Közbeszerzési szerződések teljesítése\, módosítása a gyakorlatban (e-learning oktatás)
DESCRIPTION:[vc_row leaf_row_scheme=”0″ css=”.vc_custom_1535543737295{border-bottom-width: 0px !important;padding-bottom: 0px !important;}”][vc_column][vc_column_text] \n    \n    	\n                	Közbeszerzési szerződések teljesítése\, módosítása a gyakorlatban (e-learning oktatás)                \n        \n    \n    \n[/vc_column_text][vc_tta_tabs active_section=”1″ css=”.vc_custom_1587895824091{background-color: #ffffff !important;}”][vc_tta_section i_icon_fontawesome=”fa fa-info” add_icon=”true” title=”Általános információ” tab_id=”1533823033159-c2b08946-5c7e105d-624ffe9a-31cbf177-e0375a58-a2a8f2d4-625854dd-0df3a840-5a4fcd7a-6328b0ae-c4ddcfa3-94fe753f-e24a3cfd-9d4b2a15-7997bb84-7a60″][vc_row_inner][vc_column_inner][vc_column_text]    \n    	\n                	A tartalomból                \n        \n    \n\na közbeszerzési szerződések módosításának lehetőségei a Kbt. tükrében\naz előre nem láthatóság kérdése egyes szerződésmódosítások esetén\na de minimis módosítások jogszerű alkalmazása\nvis maior körülmények a szerződés teljesítése során\nárkövető képletek beépítése és alkalmazása\nalvállalkozók bevonása\, cseréje a teljesítés során.\n\n[/vc_column_text][/vc_column_inner][/vc_row_inner][vc_row_inner][vc_column_inner width=”1/2″][vc_column_text]    \n    	\n                	A képzés szakmai előadója                 \n        \n    \n\n\n\n[/vc_column_text][vc_single_image image=”5576″ alignment=”center”][/vc_column_inner][vc_column_inner width=”1/2″][vc_column_text] \n\nTámis Norbert \nJogi szakokleveles közgazdász\, felelős akkreditált közbeszerzési szaktanácsadó és oktató. 15 éve foglalkozik közbeszerzéssel\, 10 éve közbeszerzési oktatással. Közbeszerzési konferenciák rendszeres szakmai előadója\, közbeszerzési referens képzések vezető magyarországi oktatója\, az elmúlt évtized alatt több\, mint 1500 közbeszerzési referens tanulta meg nála a közbeszerzési szakma alapjait. \nA Target Consulting Tanácsadó Iroda tulajdonos-ügyvezetőjeként a mindennapokban közbeszerzési eljárások teljeskörű lebonyolításával\, illetve magyar és angol nyelvű közbeszerzési szaktanácsadással foglalkozik. \n\n[/vc_column_text][/vc_column_inner][/vc_row_inner][vc_row_inner][vc_column_inner width=”1/2″][vc_column_text]Jogterület: Közbeszerzési jog \nKépzés formája: e-learning \nElérhető/megtekinthető: 2020.12.31-ig.  \nA kurzus díja: 21.500.-Ft (16.929+27%ÁFA) \n\n[/vc_column_text][/vc_column_inner][vc_column_inner width=”1/2″][vc_column_text] \nAmennyiben a képzési anyag megtekintéséért ügyvédi kreditpontokat kíván szerezni\, \nabban az esetben regisztrációját     	\n        ITT        \n        adhatja le. \n[/vc_column_text][/vc_column_inner][/vc_row_inner][vc_column_text] \nRészletes tájékoztató e-learning képzés menetéről > > >\n\n[/vc_column_text][/vc_tta_section][vc_tta_section title=”Tájékoztató az E-learning képzésről” tab_id=”1586109712455-d1e77420-b166753f-e24a3cfd-9d4b2a15-7997bb84-7a60″][vc_row_inner][vc_column_inner][vc_column_text]    \n    	\n                	Részletes tájékoztatás az e-learning képzés menetéről:                 \n        \n    \n\nKurzus időtartalma: ~120 perc\nFejezetek száma: 6 db\nFejezetek hossza: 15-25 perc\n\n    \n    	\n                	MINŐSÉG – BIZTONSÁG – KÉNYELEM                \n        \n    \n    \nAz előadásanyag aktualitását a megtekintési határidő lejártáig szavatoljuk! \nBármilyen módosítás változás életbe lép a kurzust naprakészen frissítjük. \n  \nNem szükséges rászánnia egyszerre 2 órát\, nézzen meg egy fejezetet\, amikor ideje engedi. \nA kurzus 2020. december 31-ig bármikor elérhető és megtekinthető. \n  \nAz fejezetek alatt Ön készíthet jegyzeteket\, illetve az előadás anyagát is megtekintheti és letöltheti. \nKözbeszerzési szerződések teljesítése\, módosítása a gyakorlatban (e-learning oktatás) megnevezésű képzési anyag megtekintésért nem adható ügyvédi kreditpont!>>>Képzésünk\, azonban kreditpontos formában is elérhető: \n\n\n\n[/vc_column_text][vc_empty_space]    	\n        Kreditpontot biztosító képzés        \n        [vc_empty_space][vc_column_text]Jegyvásárlát követően\, visszaigazoló emailünkben minden további teendőt meg fog találni. \n\nTechnikai segítség a bejelentkezés során felmerülő akadályok kezeléséhez >>> \n\nAmennyiben a fentieken túl bármilyen kérdése felmerül\, kérem keresse ügyfélszolgálatunkat\, készséggel állunk rendelkezésére az alábbi elérhetőségeken: \nTelefonos ügyfélszolgálat: +36 70 586 7791 \nÜgyfélszolgálati idő: hétfő-csütörtök: 8:30-16:30\, péntek: 8:30-14:30 \nE-mail cím: info@aktualis-ma.hu \n[/vc_column_text][/vc_column_inner][/vc_row_inner][/vc_tta_section][vc_tta_section i_position=”right” i_icon_fontawesome=”fa fa-exclamation” add_icon=”true” title=”JEGYVÁSÁRLÁS” tab_id=”1535032668369-12e5d6d1-0656105d-624ffe9a-31cbf177-e0375a58-a2a8f2d4-625854dd-0df3a840-5a4fcd7a-6328b0ae-c4ddcfa3-94fe753f-e24a3cfd-9d4b2a15-7997bb84-7a60″][vc_row_inner][vc_column_inner width=”3/4″]    \n    	\n                	Válassza ki a megvásárolni kívánt jegyeket!                \n        \n    \n    [/vc_column_inner][vc_column_inner width=”1/4″]    	    	\n            \n            	                \n                	\n                \n                            \n            \n                            \n            \n        \n        	[/vc_column_inner][/vc_row_inner][/vc_tta_section][/vc_tta_tabs][/vc_column][/vc_row][vc_row][vc_column][vc_column_text] \nNINCSENEK REJTETT KÖLTSÉGEK!!!\nA megjelenített jegyár bruttóban van feltüntetve\, már tartalmazza az ÁFA (27%) összegét.[/vc_column_text][/vc_column][/vc_row] \n
URL:https://www.aktualis-ma.hu/rendezveny/kozbeszerzesi-szerzodesek-teljesitesevel-modositasa-a-gyakorlatban-e-learning-oktatas/
CATEGORIES:e-learning
ORGANIZER;CN="Mavor%20Legal%20Kft.":MAILTO:info@aktualis-ma.hu
END:VEVENT
END:VCALENDAR