BEGIN:VCALENDAR
VERSION:2.0
PRODID:-//Aktuális-MA - ECPv4.7.4//NONSGML v1.0//EN
CALSCALE:GREGORIAN
METHOD:PUBLISH
X-WR-CALNAME:Aktuális-MA
X-ORIGINAL-URL:https://www.aktualis-ma.hu
X-WR-CALDESC:Events for Aktuális-MA
BEGIN:VEVENT
DTSTART;TZID=Europe/Budapest:20200130T100000
DTEND;TZID=Europe/Budapest:20200130T143000
DTSTAMP:20260423T102938
CREATED:20191220T074207Z
LAST-MODIFIED:20200112T094104Z
UID:11179-1580378400-1580394600@www.aktualis-ma.hu
SUMMARY:Polgári perrendtartás 2020 – bírói tapasztalatok napjainkig  (8 kredit)
DESCRIPTION:[vc_row leaf_row_scheme=”0″ css=”.vc_custom_1535543737295{border-bottom-width: 0px !important;padding-bottom: 0px !important;}”][vc_column][vc_column_text] \nBETELET!\nÚJ IDŐPONT: 2020.FEBRUÁR 18.\n[/vc_column_text]    	\n        REGISZTÁCIÓ LEADÁSA ÉS TOVÁBBI RÉSZLETEK ITT!        \n        [vc_empty_space][vc_column_text]A MAVOR Legal Kft. a Magyar Ügyvédi Kamara által az ügyvédi tevékenységet végzők továbbképzésére akkreditált képzési hely. Akkreditációs szám: AK23/2019 \nEzen a képzésen 8 kreditpont megszerezhető. \nA kreditpont a Továbbképzési Kötelezettség teljesítésének mérésére szolgál. Kizárólag azon a Képzési eseményen szerezhető kreditpont\, amelyet a MÜK Oktatási és Akkreditációs Bizottsága nyilvántartásba vett és hozzá kreditpontot rendelt. \n[/vc_column_text]    	\n        Nyilvántartásba vételi határozat        \n        [vc_empty_space][vc_column_text]A részvétel a tanfolyamon óránként 1 kreditpontot ér\, azaz ezen a tanfolyamon történő részvétel 4 kreditpontot ér\, amennyiben Ön részvételét sikeres számonkéréssel zárja krediteit megduplázhatja\, azaz 8 kreditpontot szerezhet. A kreditek megszerzésének feltétele a rendezvényen történő részvétel\, ennek igazolására az érkezéskor és távozáskor aláírt jelenléti ív szolgál.  A kreditekről a rendezvényt követő 15 napon belül minden résztvevő számára névre szóló igazolást állítunk ki. \n[/vc_column_text][vc_tta_tabs active_section=”1″][vc_tta_section i_icon_fontawesome=”fa fa-info” add_icon=”true” title=”Általános információ” tab_id=”1533823033159-c2b08946-5c7e105d-624ffe9a-31cbf177-e0375a58-a2a8f2d4-625854dd-0df3a840-5a4fcd7a-6328b0ae-c4dde59f-2881″][vc_column_text]Képzési esemény nyilvántartásba vételi száma: NY/3/2019[/vc_column_text][vc_column_text]Képzésünket elsősorban jogi képviselők (ügyvédek\, jogtanácsosok) igényeinek figyelembevételével alakítottuk ki\, de haszonnal vehet részt rajta mindenki\, akinek -bármelyik oldalon – polgári perben kell részt venni. \nAz előadás kitér a joggyakorlat eddig kialakult eredményeire\, különösen a keresetlevél visszautasításával és a perfelvételi szak egyéb kérdéseivel kapcsolatban.[/vc_column_text][vc_row_inner][vc_column_inner width=”1/3″]    \n    	\n                	Időpont                \n        \n    \n    [vc_column_text] \nElőadás: \nVÁLTOZÁS \n2020. január 30. 10:00-14:30  10:00 – 15:30 \nRegisztráció:\n9:30-tól \n[/vc_column_text][/vc_column_inner][vc_column_inner width=”1/3″]    \n    	\n                	Helyszín                \n        \n    \n    [vc_column_text] \nHELYSZÍNVÁLTOZÁS \nEDUTUS Ház – Falk1 Rendezvényközpont \n Kinnarps House – Jarl Tréning- és Konferenciaközpont  \n1133 Budapest\, Váci út 92. \n[/vc_column_text][/vc_column_inner][vc_column_inner width=”1/3″][vc_single_image image=”6660″ img_size=”full” alignment=”center”][/vc_column_inner][/vc_row_inner][/vc_tta_section][vc_tta_section i_icon_fontawesome=”fa fa-file-text-o” add_icon=”true” title=”Tematika” tab_id=”1533819871856-e4e5f150-8c60105d-624ffe9a-31cbf177-e0375a58-a2a8f2d4-625854dd-0df3a840-5a4fcd7a-6328b0ae-c4dde59f-2881″][vc_empty_space]    	\n        Letöltöm a részletes tematikát (feltöltés alatt)        \n        [vc_empty_space][vc_column_text]Az előadás időtartalma: 10:00 – 14:30-ig. Ebédszünet:11:30-12:30-ig (3 fogásos menüebéd a helyszín éttermében) \n\nAlapelvek\, koncepció\nA bíróságok megváltozott szerepe: az alaki és az anyagi pervezetés\nAz új pertípusok: járásbírósági és törvényszéki per\nAz újra bevezetett osztott perszerkezet: mire kell vigyázni a perfelvételi szakaszban\, milyen korlátok vannak az érdemi szakaszban?\nA perfelvétel menete\nAz állítási és bizonyítási szükséghelyzet. A jogellenesen szerzett bizonyíték\nA döntő változások a szakértői bizonyításban\nA bizonyítási eljárás további jellegzetességei\nA fellebbezés és a rendkívüli perorvoslatok: perújítás\, felülvizsgálat\nAz elektronikus pervitel és az új Pp.\n\nOpcionális lehetőség: 14:30 – 15:30-ig \n\n14:30-14:45 – Tesztírás\n14:45-15:30 – Kérdések – válaszok\n\n[/vc_column_text][/vc_tta_section][vc_tta_section i_icon_fontawesome=”fa fa-user-o” add_icon=”true” title=”Előadók” tab_id=”1533822441281-092a6de7-7d36105d-624ffe9a-31cbf177-e0375a58-a2a8f2d4-625854dd-0df3a840-5a4fcd7a-6328b0ae-c4dde59f-2881″][vc_row_inner][vc_column_inner width=”1/3″][vc_single_image image=”5977″ img_size=”full” alignment=”center”][vc_column_text] \nDr. Kerepesy Krisztián\nbíró\nPesti Központi Kerületi Bíróság \n[/vc_column_text][/vc_column_inner][vc_column_inner width=”1/3″][/vc_column_inner][vc_column_inner width=”1/3″][/vc_column_inner][/vc_row_inner][/vc_tta_section][vc_tta_section i_icon_fontawesome=”fa fa-credit-card” add_icon=”true” title=”Árak” tab_id=”1533819871877-2ce09627-0015105d-624ffe9a-31cbf177-e0375a58-a2a8f2d4-625854dd-0df3a840-5a4fcd7a-6328b0ae-c4dde59f-2881″][vc_row_inner][vc_column_inner width=”1/3″]\n		\n			\n				\n					Early Bird\n					35 900 Ft\n					+Áfa/fő\n				\n				01.10. után\, de 01.22-ig vásárolt jegy esetén!✔ Ellátás \n3 fogásos menüebéd \nLeves + főétel + desszert + üdítő/ásványvíz/saláta✔ Kiadvány\naz előadás anyag kiadvány formájában✔ Eszközök jegyzeteléshez\nmappa\, toll\, jegyzetfüzet✔ Tananyag\nAz előadást követően az előadás anyaga elektronikus formában elküldve.✔ WIFI\nWIFI használat a termekben és a közösségi terekben\n			\n		 [/vc_column_inner][vc_column_inner width=”1/3″]\n		\n			\n				\n					SUPER Early Bird\n					29 900 Ft\n					+Áfa/fő\n				\n				01.10-ig vásárolt jegy esetén!✔ Ellátás \n3 fogásos menüebéd \nLeves + főétel + desszert + üdítő/ásványvíz/saláta✔ Kiadvány\naz előadás anyag kiadvány formájában✔ Eszközök jegyzeteléshez\nmappa\, toll\, jegyzetfüzet✔ Tananyag\nAz előadást követően az előadás anyaga elektronikus formában elküldve.✔ WIFI\nWIFI használat a termekben és a közösségi terekben\n			\n		 [/vc_column_inner][vc_column_inner width=”1/3″]\n		\n			\n				\n					Standard\n					39 900 Ft\n					+ÁFA/fő\n				\n				01.22. után vásárolt jegy esetén!✔ Ellátás \n3 fogásos menüebéd \nLeves + főétel + desszert + üdítő/ásványvíz/saláta✔ Kiadvány\naz előadás anyag kiadvány formájában✔ Eszközök jegyzeteléshez\nmappa\, toll\, jegyzetfüzet✔ Tananyag\nAz előadást követően az előadás anyaga elektronikus formában elküldve.✔ WIFI\nWIFI használat a termekben és a közösségi terekben\n			\n		 [/vc_column_inner][/vc_row_inner][/vc_tta_section][vc_tta_section i_position=”right” i_icon_fontawesome=”fa fa-exclamation” add_icon=”true” title=”JEGYVÁSÁRLÁS” tab_id=”1535032668369-12e5d6d1-0656105d-624ffe9a-31cbf177-e0375a58-a2a8f2d4-625854dd-0df3a840-5a4fcd7a-6328b0ae-c4dde59f-2881″][vc_row_inner][vc_column_inner width=”3/4″]    \n    	\n                	Válassza ki a megvásárolni kívánt jegyeket!                \n        \n    \n    [vc_column_text]Papír alapú jelentkezéshez töltse le formanyomtatványunkat![/vc_column_text][/vc_column_inner][vc_column_inner width=”1/4″]    	    	\n            \n            	                \n                	\n                \n                            \n            \n                            \n            \n        \n        	[/vc_column_inner][/vc_row_inner][/vc_tta_section][/vc_tta_tabs][/vc_column][vc_column][/vc_column][/vc_row] \n
URL:https://www.aktualis-ma.hu/rendezveny/polgari-perrendtartas-2020-biroi-tapasztalatok-napjainkig-8-kredit/
LOCATION:Kinnarps House\, Váci út 92.\, Budapest\, 1133\, Magyarország
CATEGORIES:Képzés,Konferencia
ORGANIZER;CN="Mavor%20Legal%20Kft.":MAILTO:info@aktualis-ma.hu
END:VEVENT
END:VCALENDAR