BEGIN:VCALENDAR
VERSION:2.0
PRODID:-//Aktuális-MA - ECPv4.7.4//NONSGML v1.0//EN
CALSCALE:GREGORIAN
METHOD:PUBLISH
X-WR-CALNAME:Aktuális-MA
X-ORIGINAL-URL:https://www.aktualis-ma.hu
X-WR-CALDESC:Events for Aktuális-MA
BEGIN:VEVENT
DTSTART;TZID=Europe/Budapest:20210104T080000
DTEND;TZID=Europe/Budapest:20211215T170000
DTSTAMP:20260423T102418
CREATED:20200511T210220Z
LAST-MODIFIED:20210413T121119Z
UID:13375-1609747200-1639587600@www.aktualis-ma.hu
SUMMARY:Számlázás 2020/2021-ben kis- és középvállalkozásoknak
DESCRIPTION:[vc_row leaf_row_scheme=”0″ css=”.vc_custom_1535543737295{border-bottom-width: 0px !important;padding-bottom: 0px !important;}”][vc_column]    \n    	\n                	Számlázás 2020/2021-ben kis- és középvállalkozásoknak                \n        \n    \n    [vc_tta_tabs active_section=”1″ css=”.vc_custom_1588875770202{background-color: #ffffff !important;}”][vc_tta_section i_icon_fontawesome=”fa fa-info” add_icon=”true” title=”Általános információ” tab_id=”1533823033159-c2b08946-5c7e105d-624ffe9a-31cbf177-e0375a58-a2a8f2d4-625854dd-0df3a840-5a4fcd7a-6328b0ae-c4ddcfa3-94fec13a-18fb0005-44bc”][vc_column_text]    \n    	\n                	Miért hasznos?                \n        \n    \nEz a képzés részletesen bemutatja a 2020. július 1-től hatályos legfontosabb számlázási tudnivalókat kis és közép vállalkozások részére. \n2020. július 1-től nagy változások elé nézzünk\, hiszen minden belföldi adóalany felé kibocsátott számlát jelenteni kell a NAV felé. Ez vonatkozik az alanyi adómentes\, katás vállalkozásokra is\, vagy olyan vállalkozásokra\, amelyek kis értékű vagy fordított áfás számlát bocsátanak ki. \nA papír alapú számlázás ugyan nem lesz szabálytalan\, de sok adminisztrációval jár\, hiszen az áthárított áfa összegétől függően\, a számlatömbből kibocsátott számlát 1 vagy 4 naptári napon belül manuálisan kell jelenteni a NAV felé. Épp ezért sokkal észszerűbb számlázóprogramból kibocsátani a számlát. \nA képzés részletesen foglalkozik elméleti tudnivalókkal és gyakorlati tennivalókkal\, ideértve azt is hogyan kell regisztrálni a NAV onlineszámla rendszerében\, hogyan kell létrehozni technikai felhasználót és hogyan lehet használni a NAV ingyenes felhő alapú Online Számlázóját. \n\n    	\n                	Miért jó egy letölthető számlázási e-learning anyag?                \n        \n    \n    Bármikor bármilyen eszközön meg lehet nézni. Reggel\, este\, nap közben. Home office-ban a laptopon\, tableten vagy akár az okostelefonon. Meg lehet állítani\, pauzolni\, tovább tekerni\, újranézni és megnézni később.[/vc_column_text]    \n    	\n                	A képzés szakmai előadója                \n        \n    \n    [vc_row_inner][vc_column_inner width=”1/2″][vc_single_image image=”5571″ alignment=”center”][/vc_column_inner][vc_column_inner width=”1/2″][vc_column_text] \n\nDr. Sztankó Dániel\nIgazgató\, Adóüzletág\n\n[/vc_column_text][/vc_column_inner][/vc_row_inner][vc_separator color=”black”][vc_row_inner][vc_column_inner][vc_column_text]Képzés formája: e-learning \nKurzus időtartalma: 3 óra \nA több mint 3 órás képzés Vimeo videomegosztó platformon kerül megosztásra\, díj megfizetése után. A hozzáférés személyre szól és nem megosztható. \nElérhető/megtekinthető: megvásárlástól számított 30 nap \nA letölthető SZÁMLÁZÁS képzés díja: 14 300 Ft + ÁFA[/vc_column_text][/vc_column_inner][/vc_row_inner][/vc_tta_section][vc_tta_section title=”Tematika” tab_id=”1588879268905-0ba7975c-718e0005-44bc”]    \n    	\n                	Milyen témákat érint?                \n        \n    \n    [vc_row_inner][vc_column_inner][vc_column_text]1. Hogyan válasszunk számlázóprogramot? Számlázóprogrammal szemben támasztott követelmények\n2. Mikor milyen bizonylatot kell kibocsátani. Előlegszámla\, részszámla\, végszámla\, helyesbítő számla\, sztornó számla\, számla közötti különbségek\n3. Mit jelent az online számla adatszolgáltatási kötelezettség és mi változik? Mi változik 2020-ban és 2021-ben?\n4. Onlineszámla.nav.gov.hu és az Online Számlázó.\n5. Milyen adatokat írjunk a számlára? Számla tartalma\n6. Időpontok a számlán. Teljesítés időpontja. Időszakos elszámolás.\n7. Számla korrekciók. Hogyan kell helyesbíteni\, illetve sztornózni a számlát?\n8. Adminisztratív tennivalók\n9. Adódigitalizációban rejlő lehetőségek[/vc_column_text][/vc_column_inner][/vc_row_inner][/vc_tta_section][vc_tta_section i_position=”right” i_icon_fontawesome=”fa fa-exclamation” add_icon=”true” title=”JEGYVÁSÁRLÁS” tab_id=”1535032668369-12e5d6d1-0656105d-624ffe9a-31cbf177-e0375a58-a2a8f2d4-625854dd-0df3a840-5a4fcd7a-6328b0ae-c4ddcfa3-94fec13a-18fb0005-44bc”][vc_column_text] \nA letölthető számlázási képzés díja: 14 300.-Ft + ÁFA/képzés\n[/vc_column_text][vc_row_inner][vc_column_inner][/vc_column_inner][/vc_row_inner][/vc_tta_section][/vc_tta_tabs][/vc_column][/vc_row][vc_row][vc_column][vc_row_inner][vc_column_inner width=”1/2″][vc_column_text] \n\n    \n    	\n                	Jelentkezzen most                \n        \n    \n    Amennyiben a letölthető számlázási képzés felkeltette az érdeklődését\, kérem töltse ki az alábbi ürlapot. Ez alapján küldünk Önnek az Ön cége nevére szóló dijbekérőt. Mihelyt az összeg kifizetésre kerül\, egy hozzéférést küldünk a Vimeo platformon elhelyezett video felvétételhez és együttal a számlát. \n\n[/vc_column_text][/vc_column_inner][vc_column_inner width=”1/2″ css=”.vc_custom_1589318303489{background-color: #d1d1d1 !important;}”]\n\n\n\n\n\n\n\n\n\n\n  Kapcsolattartó neve: *\n      \n E-mail cím: *\n      \n Telefonszám:*\n      \n Számlázási adatok (cégnév\, számlázási cím\, adószám): *\n  \n Milyen más területen hallgatna meg előadást: \n      \n Üzenet\, kérés\, kérdés? 
URL:https://www.aktualis-ma.hu/rendezveny/szamlazas-2020-kis-es-kozepvallalkozasoknak/
ATTACH;FMTTYPE=image/jpeg:https://www.aktualis-ma.hu/wp-content/uploads/2019/11/PENZUGY_S.jpg
ORGANIZER;CN="Mavor%20Legal%20Kft.":MAILTO:info@aktualis-ma.hu
END:VEVENT
END:VCALENDAR