BEGIN:VCALENDAR
VERSION:2.0
PRODID:-//Aktuális-MA - ECPv4.7.4//NONSGML v1.0//EN
CALSCALE:GREGORIAN
METHOD:PUBLISH
X-WR-CALNAME:Aktuális-MA
X-ORIGINAL-URL:https://www.aktualis-ma.hu
X-WR-CALDESC:Events for Aktuális-MA
BEGIN:VEVENT
DTSTART;TZID=Europe/Budapest:20201130T080000
DTEND;TZID=Europe/Budapest:20221231T170000
DTSTAMP:20260423T103616
CREATED:20201130T132434Z
LAST-MODIFIED:20221216T101742Z
UID:19908-1606723200-1672506000@www.aktualis-ma.hu
SUMMARY:Az új Pp. újításai és (kialakuló) gyakorlata – Újonnan akkreditált képzés! (4 kredit)
DESCRIPTION:[vc_row][vc_column][/vc_column][/vc_row][vc_row leaf_row_scheme=”0″ css=”.vc_custom_1535543737295{border-bottom-width: 0px !important;padding-bottom: 0px !important;}”][vc_column]    \n    	\n                	2021. JANUÁR 1-TŐL VÁLTOZÁSOK A POLGÁRI PERRENDTARTÁSBAN – jelentősen módosulnak a polgári perek eljárási szabályai                \n        \n    \n    [vc_single_image image=”34465″ img_size=”1200X301″ onclick=”custom_link” img_link_target=”_blank” css_animation=”bounceInLeft” link=”https://www.aktualis-ma.hu/rendezveny/csomag/#14_KREDIT”][vc_tta_tabs active_section=”1″ css=”.vc_custom_1587895824091{background-color: #ffffff !important;}”][vc_tta_section i_icon_fontawesome=”fa fa-info” add_icon=”true” title=”Általános információ” tab_id=”1533823033159-c2b08946-5c7e105d-624ffe9a-31cbf177-e0375a58-a2a8f2d4-625854dd-0df3a840-5a4fcd7a-6328b0ae-c4ddcfa3-94fe753f-e24a3cfd-9d4bbd81-a0bd9ef8-e264″][vc_row_inner][vc_column_inner width=”1/2″]    \n    	\n                	A tartalomból:                \n        \n    \n    [vc_column_text]2020. november 17-én elfogadta a parlament azon jogszabálymódosítást\, amely 2021. január 1-től jelentősen módosít a polgári perekben irányadó eljárási szabályokon. \nKépzésünket elsősorban jogi képviselők (ügyvédek\, jogtanácsosok) igényeinek figyelembevételével alakítottuk ki\, de haszonnal vehet részt rajta mindenki\, akinek – bármelyik oldalon – polgári perben kell részt venni.  Az új polgári perrendtartásról szóló 2016. évi CXXX. törvény 2018. január 1-jén lépett hatályba\, felváltva az 1952. évi III. tv.-t. A hatályba lépés óta eltelt két év szerencsére néhány vitás kérdést megoldott (bár nem mindet…) és ennyi idő alkalmas volt arra\, hogy néhány területen a bírói gyakorlat is körvonalazódni kezdhessen. \nA képzésünk a gyakorlatra\, az ismertté vált eseti döntésekre\, CKOT állásfoglalásokra koncentrál\, különös tekintettel a keresetlevél visszautasítására és az eljárás kezdeti szakaszára. \nAz előadás kitér a joggyakorlat eddig kialakult eredményeire\, különösen a keresetlevél visszautasításával és a perfelvételi szak egyéb kérdéseivel kapcsolatban.[/vc_column_text]    \n    	\n                	Tematika                \n        \n    \n    [vc_column_text] \n\nPp.-t módosító újdonságok T/13257 = 2020. évi CXIX. tv. („Novella”)\nAz új Pp. alapelvei\nA jogcímhez kötöttség\, az anyagi pervezetés\nA járásbírósági és törvényszéki per eltérései.\nA hatáskör és illetékesség változásai\nA jogi képviselőre irányadó új szabályok\nA keresetlevél kötelező tartalmi kellékei és a hiányok jogkövetkezménye\nA perfelvétel lépései\nA perfelvételi tárgyalás menete\nA perfelvételi beadványok és kötelező tartalmi kellékeik\nA bizonyítási eljárás változásai\, a magánszakértő\, a jogellenesen szerzett bizonyíték\nAz állítási és bizonyítási szükséghelyzet.\nDióhéjban a jogorvoslatokról\n\n[/vc_column_text]    \n    	\n                	Előadó:                 \n        \n    \n    [vc_single_image image=”5977″ alignment=”center”][vc_column_text] \n\ndr. Kerepesy Krisztián  \nbíró\, Pesti Központi Kerületi Bíróság – az új Ptk. kodifikálásában közreműködő minisztériumi munkacsoport tagja \n\n[/vc_column_text][/vc_column_inner][vc_column_inner width=”1/2″][vc_empty_space height=”64px”]\n		\n			\n				\n					\n					Összefoglaló információk\n					\n				\n				Előadó: dr. Kerepesy Krisztián bíró\, Pesti Központi Kerületi Bíróság – az új Ptk. kodifikálásában közreműködő minisztériumi munkacsoport tagja \nJogterület: Polgárjog\, Végrehajtás\, Csőd\, Felszámolás\nKépzés formája: e-learning\nKurzus időtartalma: (~) 240 perc\nFejezetek száma: 12 db \nA képzés nyilvántartásba vételi száma: NY001399/2020 \nMegtekinthető: A belépési adatok kiküldésétől számított 60 napig. \nEhhez a képzési anyaghoz NEM tartozik vizsga a megtekintésért 4 kredit jár! \n(Az oktatási felület korlátlan számú belépést biztosít a kurzusban résztvevő számára a hozzáférési határidőig.)\n			\n		 [vc_empty_space height=”12px”]\n		\n			\n				\n					\n					JEGYEK\n					\n				\n				Standard jegyár 1: 22 000 Ft /fő \n2022.03.31-ig vásárolt jegy esetében. \n\nStandard jegyár 2: 24 000 Ft /fő \n2022.03.31-ét követően vásárolt jegy esetében. \n\nNINCSENEK REJTETT KÖLTSÉGEK!!!\nA képzés mentes az adó alól az Áfa tv. 85.§. (2) alapján.\n			\n		 [vc_empty_space height=”12px”][vc_btn title=”JEGYVÁSÁRLÁS” color=”inverse” size=”lg” align=”center” i_icon_fontawesome=”fa fa-address-card-o” add_icon=”true”][vc_empty_space height=”12px”]\n		\n			\n				\n					\n					Mi történik a megrendelés elküldését követően?\n					\n				\n				 \nA megrendelés elküldését követően\, minden pénzügyi teljesítéshez szükséges információt megküldünk a regisztráció során megadott e-mailcímre. \nAmennyiben a visszaigazolásban feltűntetett díj kiegyenlítésre kerül\, hozzáférést küldünk Önnek\, mely tartalmazza az oktatási anyag(ok)hoz rendelt belépési útvonalat és adatokat\, illetve a pénzügyileg teljesített számlát. \n\n			\n		 [/vc_column_inner][/vc_row_inner][vc_column_text] \n\nRészletes tájékoztató e-learning képzés menetéről > > >\n\n\n[/vc_column_text][/vc_tta_section][vc_tta_section title=”Tájékoztató az E-learning képzésről” tab_id=”1586109712455-d1e77420-b166753f-e24a3cfd-9d4bbd81-a0bd9ef8-e264″][vc_row_inner][vc_column_inner]    \n    	\n                	Részletes tájékoztatás az e-learning képzés menetéről:                 \n        \n    \n    [vc_column_text] \n\nKurzus időtartalma: 240 perc\nFejezetek száma: 12 db\n\nMinden fejezet végén a rendszer feltesz Önnek egy éberségellenőrző kérdést az elhangzott oktatási anyaghoz kapcsolódóan. \nA fejezetek közötti éberségellenőrző kérdésről: \n\nA kérdések száma a kurzuson belül: 1 db/fejezet\nA kérdések formája: feleletválasztós teszt\nKitöltés módja: jelölőnégyzet használatával\n\nA kurzus megtekintésért és az ellenőrzőpontokon történő helyes kérdés megválaszolásért\, a szabályzat szerint 4 kreditpont adható. \n*Az oktatási felület korlátlan számú belépést biztosít a kurzusban résztvevő számára a megtekintési határidőig. \nEhhez a képzési anyaghoz NEM tartozik vizsga! \nA megszerzett kreditpontok lejelentéséről a MÜK rendszerébe cégünk gondoskodik\, Önnek további teendője nincs. \n\nTechnikai segítség a bejelentkezés során felmerülő akadályok kezeléséhez >>> \n\nAmennyiben a fentieken túl bármilyen kérdése felmerül\, kérem keresse ügyfélszolgálatunkat\, készséggel állunk rendelkezésére az alábbi elérhetőségeken: \nTelefonos ügyfélszolgálat: +36 70 586 7791 \nÜgyfélszolgálati idő: hétfő-csütörtök: 8:30-16:30\, péntek: 8:30-14:30 \nE-mail cím: info@aktualis-ma.hu \nMAVOR Legal Kft.\nKövessen minket facebookon is! \n[/vc_column_text][/vc_column_inner][/vc_row_inner][/vc_tta_section][vc_tta_section i_icon_fontawesome=”fa fa-check” add_icon=”true” title=”Előnyök” tab_id=”1610307080452-a91d6d07-cd2b”][vc_column_text]    \n    	\n                	MAVOR Legal Kft. – A tanulás jövője                \n        \n    \nAz online tanulás egyre elterjedtebb lesz\, ezért érdemes hozzá alkalmazkodni és kihasználni a benne rejlő lehetőségeket. \nAz e-learning rendszereknek a képzési folyamatban az oktató és a képzésben résztvevő tevékenységének időbelisége szempontjából két fő típusa különíthető el: \nEgyik fő típus a MAVOR Legal Kft. által alkalmazott aszinkron képzési módszer\, mely szerint az oktató és a képzésben résztvevő időben és térben is teljesen elkülönül egymástól. \nEzzel szemben a szinkron (online-élő) képzés időben kötött és a résztvevőnek alkalmazkodnia kell az oktató/képző intézmény által rögzített időpontokhoz. \n    \n    	\n                	Az aszinkron e-learning képzési módszer előnyei:                \n        \n    \n    \n\nhatékonyság\, eredményesség kötöttségek és korlátok nélkül.\na tanulás bárhol\, bármikor saját haladási tempóban végezhető\nglobális hozzáférést biztosít a tudáshoz korlátok nélkül (időben és térben)\negyéni tanulási módszerhez\, és képzési szükségletekhez igazított\naz oktatást annyiszor ismételheti meg\, ahányszor az egyéni igényeihez szükséges\na családi és munkahelyi kötelezettségek és a tanulmányi feladatok jól összeegyeztethetőkké válnak\ncsökkennek az oktatáshoz\, képzéshez kapcsolódó járulékos költségek (pl.: utazás\, szállás stb.)\na tanulási folyamat üteme nyomon követhető\, naplózható és a megszerzett tudás mérhető\naz online tananyag naprakész mely a folyamatosan változó jogszabályok\, törvény módosítások által befolyásolt szakterület esetében igen fontos szempont – könnyen karbantartható (aktualizálható)\, illetve felújítható\n\nTöbb órás képzési anyagaink 15-25 perces fejezetekre vannak bontva\, így nem szükséges egyszerre\, rászánnia több órát a megtekintésre. Oktatási rendszerünk minden megtekintett fejezetet naplóz\, így Ön onnan folytathatja\, ahol abbahagyta. \nNe maradjon le semmiről\, a fejezet közben az oktatási anyag bármikor megállítható a megtekintett fejezet pedig újra meghallgatható\, illetve biztosított az előre-és visszatekerés lehetősége.[/vc_column_text][/vc_tta_section][vc_tta_section i_position=”right” i_icon_fontawesome=”fa fa-exclamation” add_icon=”true” title=”JEGYVÁSÁRLÁS” tab_id=”1535032668369-12e5d6d1-0656105d-624ffe9a-31cbf177-e0375a58-a2a8f2d4-625854dd-0df3a840-5a4fcd7a-6328b0ae-c4ddcfa3-94fe753f-e24a3cfd-9d4bbd81-a0bd9ef8-e264″][vc_row_inner][vc_column_inner width=”3/4″]    \n    	\n                	Válassza ki a megvásárolni kívánt jegyeket!                \n        \n    \n    [/vc_column_inner][vc_column_inner width=”1/4″]    	    	\n            \n            	                \n                	\n                \n                            \n            \n                            \n            \n        \n        	[/vc_column_inner][/vc_row_inner][/vc_tta_section][/vc_tta_tabs][/vc_column][/vc_row][vc_row][vc_column][vc_single_image image=”38903″ img_size=”1200*300″ alignment=”center” style=”vc_box_shadow_3d” onclick=”custom_link” img_link_target=”_blank” css_animation=”zoomIn” link=”https://www.aktualis-ma.hu/2-darabtol-25-kedvezmeny-mindenre/”][/vc_column][/vc_row] \n
URL:https://www.aktualis-ma.hu/rendezveny/uj-pp-2021/
CATEGORIES:e-learning
ATTACH;FMTTYPE=image/jpeg:https://www.aktualis-ma.hu/wp-content/uploads/2018/10/e-per.jpg
ORGANIZER;CN="Mavor%20Legal%20Kft.":MAILTO:info@aktualis-ma.hu
END:VEVENT
END:VCALENDAR